Package: ANCOMBC Version: 2.11.1 Command: /home/biocbuild/bbs-3.22-bioc/R/bin/R CMD build --keep-empty-dirs --no-resave-data --md5 ANCOMBC StartedAt: 2025-10-17 16:09:47 -0400 (Fri, 17 Oct 2025) EndedAt: 2025-10-17 16:29:51 -0400 (Fri, 17 Oct 2025) EllapsedTime: 1204.0 seconds RetCode: 0 Status: OK PackageFile: ANCOMBC_2.11.1.tar.gz PackageFileSize: 1.228 MiB