Package: ANCOMBC Version: 2.11.0 Command: rm -rf ANCOMBC.buildbin-libdir && mkdir ANCOMBC.buildbin-libdir && /Users/biocbuild/BBS/utils/build-universal.sh ANCOMBC_2.11.0.tar.gz /Library/Frameworks/R.framework/Resources/bin/R ANCOMBC.buildbin-libdir StartedAt: 2025-05-06 00:30:53 -0400 (Tue, 06 May 2025) EndedAt: 2025-05-06 00:31:18 -0400 (Tue, 06 May 2025) EllapsedTime: 25.5 seconds RetCode: 0 Status: OK PackageFile: ANCOMBC_2.11.0.tgz PackageFileSize: 1.438 MiB