Package: AMOUNTAIN Version: 1.35.0 Command: chmod a+r AMOUNTAIN -R && F:\biocbuild\bbs-3.22-bioc\R\bin\R.exe CMD build --keep-empty-dirs --no-resave-data AMOUNTAIN StartedAt: 2025-08-14 18:24:43 -0400 (Thu, 14 Aug 2025) EndedAt: 2025-08-14 18:25:14 -0400 (Thu, 14 Aug 2025) EllapsedTime: 31.0 seconds RetCode: 0 Status: OK PackageFile: AMOUNTAIN_1.35.0.tar.gz PackageFileSize: 1.116 MiB