Package: AMOUNTAIN Version: 1.35.0 Command: /home/biocbuild/bbs-3.22-bioc/R/bin/R CMD INSTALL AMOUNTAIN StartedAt: 2025-10-09 15:13:47 -0400 (Thu, 09 Oct 2025) EndedAt: 2025-10-09 15:13:56 -0400 (Thu, 09 Oct 2025) EllapsedTime: 9.0 seconds RetCode: 0 Status: OK