Package: AMOUNTAIN Version: 1.35.0 Command: /home/biocbuild/bbs-3.22-bioc/R/bin/R CMD build --keep-empty-dirs --no-resave-data --md5 AMOUNTAIN StartedAt: 2025-10-09 16:14:29 -0400 (Thu, 09 Oct 2025) EndedAt: 2025-10-09 16:14:44 -0400 (Thu, 09 Oct 2025) EllapsedTime: 15.0 seconds RetCode: 0 Status: OK PackageFile: AMOUNTAIN_1.35.0.tar.gz PackageFileSize: 1.601 MiB