Package: AMOUNTAIN Version: 1.35.0 Command: rm -rf AMOUNTAIN.buildbin-libdir && mkdir AMOUNTAIN.buildbin-libdir && /Users/biocbuild/BBS/utils/build-universal.sh AMOUNTAIN_1.35.0.tar.gz /Library/Frameworks/R.framework/Resources/bin/R AMOUNTAIN.buildbin-libdir StartedAt: 2025-05-09 00:32:12 -0400 (Fri, 09 May 2025) EndedAt: 2025-05-09 00:32:20 -0400 (Fri, 09 May 2025) EllapsedTime: 8.1 seconds RetCode: 0 Status: OK PackageFile: AMOUNTAIN_1.35.0.tgz PackageFileSize: 1.75 MiB