Package: AMARETTO Version: 1.25.0 Command: /home/biocbuild/bbs-3.22-bioc/R/bin/R CMD INSTALL AMARETTO StartedAt: 2025-10-03 15:56:17 -0400 (Fri, 03 Oct 2025) EndedAt: 2025-10-03 15:56:53 -0400 (Fri, 03 Oct 2025) EllapsedTime: 35.3 seconds RetCode: 0 Status: OK