Package: AMARETTO Version: 1.25.0 Command: /home/biocbuild/bbs-3.22-bioc/R/bin/R CMD build --keep-empty-dirs --no-resave-data --md5 AMARETTO StartedAt: 2025-10-03 16:08:53 -0400 (Fri, 03 Oct 2025) EndedAt: 2025-10-03 16:09:49 -0400 (Fri, 03 Oct 2025) EllapsedTime: 56.1 seconds RetCode: 0 Status: OK PackageFile: AMARETTO_1.25.0.tar.gz PackageFileSize: 3.259 MiB