Package: ALDEx2 Version: 1.39.0 Command: E:\biocbuild\bbs-3.21-bioc\R\bin\R.exe CMD check --no-multiarch --install=check:ALDEx2.install-out.txt --library=E:\biocbuild\bbs-3.21-bioc\R\library --no-vignettes --timings ALDEx2_1.39.0.tar.gz StartedAt: 2025-02-20 22:43:13 -0500 (Thu, 20 Feb 2025) EndedAt: 2025-02-20 22:48:12 -0500 (Thu, 20 Feb 2025) EllapsedTime: 299.2 seconds RetCode: 0 Status: OK CheckDir: ALDEx2.Rcheck Warnings: 0