Package: ALDEx2 Version: 1.39.0 Command: chmod a+r ALDEx2 -R && E:\biocbuild\bbs-3.21-bioc\R\bin\R.exe CMD build --keep-empty-dirs --no-resave-data ALDEx2 StartedAt: 2025-02-21 17:52:15 -0500 (Fri, 21 Feb 2025) EndedAt: 2025-02-21 17:55:09 -0500 (Fri, 21 Feb 2025) EllapsedTime: 174.1 seconds RetCode: 0 Status: OK PackageFile: ALDEx2_1.39.0.tar.gz PackageFileSize: 1.896 MiB