Package: ALDEx2 Version: 1.39.0 Command: rm -rf ALDEx2.buildbin-libdir && mkdir ALDEx2.buildbin-libdir && E:\biocbuild\bbs-3.21-bioc\R\bin\R.exe CMD INSTALL --build --library=ALDEx2.buildbin-libdir ALDEx2_1.39.0.tar.gz StartedAt: 2025-02-21 07:31:36 -0500 (Fri, 21 Feb 2025) EndedAt: 2025-02-21 07:32:50 -0500 (Fri, 21 Feb 2025) EllapsedTime: 74.3 seconds RetCode: 0 Status: OK PackageFile: ALDEx2_1.39.0.zip PackageFileSize: 1.555 MiB