Package: ALDEx2 Version: 1.39.0 Command: rm -rf ALDEx2.buildbin-libdir && mkdir ALDEx2.buildbin-libdir && /Users/biocbuild/BBS/utils/build-universal.sh ALDEx2_1.39.0.tar.gz /Library/Frameworks/R.framework/Resources/bin/R ALDEx2.buildbin-libdir StartedAt: 2025-02-22 00:19:47 -0500 (Sat, 22 Feb 2025) EndedAt: 2025-02-22 00:20:22 -0500 (Sat, 22 Feb 2025) EllapsedTime: 35.8 seconds RetCode: 0 Status: OK PackageFile: ALDEx2_1.39.0.tgz PackageFileSize: 2.748 MiB