Package: ALDEx2 Version: 1.39.0 Command: /Library/Frameworks/R.framework/Resources/bin/R CMD INSTALL ALDEx2 StartedAt: 2025-02-21 15:22:58 -0500 (Fri, 21 Feb 2025) EndedAt: 2025-02-21 15:23:07 -0500 (Fri, 21 Feb 2025) EllapsedTime: 9.2 seconds RetCode: 0 Status: OK