Package: ALDEx2 Version: 1.39.0 Command: /Library/Frameworks/R.framework/Resources/bin/R CMD check --install=check:ALDEx2.install-out.txt --library=/Library/Frameworks/R.framework/Resources/library --no-vignettes --timings ALDEx2_1.39.0.tar.gz StartedAt: 2025-02-21 18:36:52 -0500 (Fri, 21 Feb 2025) EndedAt: 2025-02-21 18:38:23 -0500 (Fri, 21 Feb 2025) EllapsedTime: 91.1 seconds RetCode: 0 Status: OK CheckDir: ALDEx2.Rcheck Warnings: 0