Package: ALDEx2 Version: 1.39.0 Command: /Library/Frameworks/R.framework/Resources/bin/R CMD build --keep-empty-dirs --no-resave-data ALDEx2 StartedAt: 2025-02-21 15:32:35 -0500 (Fri, 21 Feb 2025) EndedAt: 2025-02-21 15:33:15 -0500 (Fri, 21 Feb 2025) EllapsedTime: 39.4 seconds RetCode: 0 Status: OK PackageFile: ALDEx2_1.39.0.tar.gz PackageFileSize: 3.098 MiB