Package: AIMS Version: 1.41.0 Command: /Library/Frameworks/R.framework/Resources/bin/R CMD INSTALL AIMS StartedAt: 2025-05-22 15:15:02 -0400 (Thu, 22 May 2025) EndedAt: 2025-05-22 15:15:09 -0400 (Thu, 22 May 2025) EllapsedTime: 6.8 seconds RetCode: 0 Status: OK