Package: AHMassBank Version: 1.9.0 Command: rm -rf AHMassBank.buildbin-libdir && mkdir AHMassBank.buildbin-libdir && /Users/biocbuild/BBS/utils/build-universal.sh AHMassBank_1.9.0.tar.gz /Library/Frameworks/R.framework/Resources/bin/R AHMassBank.buildbin-libdir StartedAt: 2025-10-22 22:51:08 -0400 (Wed, 22 Oct 2025) EndedAt: 2025-10-22 22:51:25 -0400 (Wed, 22 Oct 2025) EllapsedTime: 17.3 seconds RetCode: 0 Status: OK PackageFile: AHMassBank_1.9.0.tgz PackageFileSize: 300.4 KiB