Package: AGDEX Version: 1.57.0 Command: /home/biocbuild/bbs-3.22-bioc/R/bin/R CMD INSTALL AGDEX StartedAt: 2025-10-17 15:28:57 -0400 (Fri, 17 Oct 2025) EndedAt: 2025-10-17 15:29:11 -0400 (Fri, 17 Oct 2025) EllapsedTime: 14.4 seconds RetCode: 0 Status: OK