Package: AGDEX Version: 1.57.0 Command: /home/biocbuild/bbs-3.22-bioc/R/bin/R CMD build --keep-empty-dirs --no-resave-data --md5 AGDEX StartedAt: 2025-10-17 16:07:44 -0400 (Fri, 17 Oct 2025) EndedAt: 2025-10-17 16:08:06 -0400 (Fri, 17 Oct 2025) EllapsedTime: 22.0 seconds RetCode: 0 Status: OK PackageFile: AGDEX_1.57.0.tar.gz PackageFileSize: 488.7 KiB