Package: AGDEX Version: 1.57.0 Command: /Library/Frameworks/R.framework/Resources/bin/R CMD INSTALL AGDEX StartedAt: 2025-05-26 15:46:14 -0400 (Mon, 26 May 2025) EndedAt: 2025-05-26 15:46:34 -0400 (Mon, 26 May 2025) EllapsedTime: 19.5 seconds RetCode: 0 Status: OK