Package: AGDEX Version: 1.57.0 Command: /Library/Frameworks/R.framework/Resources/bin/R CMD build --keep-empty-dirs --no-resave-data AGDEX StartedAt: 2025-05-27 15:54:59 -0400 (Tue, 27 May 2025) EndedAt: 2025-05-27 15:55:27 -0400 (Tue, 27 May 2025) EllapsedTime: 27.6 seconds RetCode: 0 Status: OK PackageFile: AGDEX_1.57.0.tar.gz PackageFileSize: 487.2 KiB