Package: ADaCGH2 Version: 2.47.0 Command: E:\biocbuild\bbs-3.21-bioc\R\bin\R.exe CMD INSTALL ADaCGH2 StartedAt: 2025-02-04 16:35:46 -0500 (Tue, 04 Feb 2025) EndedAt: 2025-02-04 16:35:52 -0500 (Tue, 04 Feb 2025) EllapsedTime: 5.6 seconds RetCode: 1 Status: ERROR