Package: ADaCGH2 Version: 2.47.0 Command: E:\biocbuild\bbs-3.21-bioc\R\bin\R.exe CMD check --no-multiarch --install=check:ADaCGH2.install-out.txt --library=E:\biocbuild\bbs-3.21-bioc\R\library --no-vignettes --timings ADaCGH2_2.47.0.tar.gz StartedAt: 2025-01-21 22:27:13 -0500 (Tue, 21 Jan 2025) EndedAt: 2025-01-21 22:31:33 -0500 (Tue, 21 Jan 2025) EllapsedTime: 260.2 seconds RetCode: 0 Status: OK CheckDir: ADaCGH2.Rcheck Warnings: 0