############################################################################## ############################################################################## ### ### Running command: ### ### chmod a+r ADaCGH2 -R && E:\biocbuild\bbs-3.21-bioc\R\bin\R.exe CMD build --keep-empty-dirs --no-resave-data ADaCGH2 ### ############################################################################## ############################################################################## * checking for file 'ADaCGH2/DESCRIPTION' ... OK * preparing 'ADaCGH2': * checking DESCRIPTION meta-information ... OK * cleaning src * installing the package to build vignettes ----------------------------------- ERROR: dependency 'GLAD' is not available for package 'ADaCGH2' Perhaps try a variation of: install.packages('GLAD') * removing 'E:/biocbuild/bbs-3.21-bioc/tmpdir/RtmpEt04fu/Rinst1e8986a353982/ADaCGH2' ----------------------------------- ERROR: package installation failed