Package: ADaCGH2 Version: 2.47.0 Command: rm -rf ADaCGH2.buildbin-libdir && mkdir ADaCGH2.buildbin-libdir && E:\biocbuild\bbs-3.21-bioc\R\bin\R.exe CMD INSTALL --build --library=ADaCGH2.buildbin-libdir ADaCGH2_2.47.0.tar.gz StartedAt: 2025-01-22 07:01:53 -0500 (Wed, 22 Jan 2025) EndedAt: 2025-01-22 07:02:57 -0500 (Wed, 22 Jan 2025) EllapsedTime: 64.5 seconds RetCode: 0 Status: OK PackageFile: ADaCGH2_2.47.0.zip PackageFileSize: 1.052 MiB