############################################################################## ############################################################################## ### ### Running command: ### ### /Library/Frameworks/R.framework/Resources/bin/R CMD INSTALL ADaCGH2 ### ############################################################################## ############################################################################## * installing to library ‘/Library/Frameworks/R.framework/Versions/4.5-x86_64/Resources/library’ ERROR: dependency ‘GLAD’ is not available for package ‘ADaCGH2’ Perhaps try a variation of: install.packages('GLAD') * removing ‘/Library/Frameworks/R.framework/Versions/4.5-x86_64/Resources/library/ADaCGH2’