Package: ADaCGH2 Version: 2.47.0 Command: /Library/Frameworks/R.framework/Resources/bin/R CMD build --keep-empty-dirs --no-resave-data ADaCGH2 StartedAt: 2025-02-05 15:49:56 -0500 (Wed, 05 Feb 2025) EndedAt: 2025-02-05 15:49:59 -0500 (Wed, 05 Feb 2025) EllapsedTime: 3.4 seconds RetCode: 1 Status: ERROR PackageFile: None PackageFileSize: NA