Package: ADaCGH2 Version: 2.49.0 Command: rm -rf ADaCGH2.buildbin-libdir && mkdir ADaCGH2.buildbin-libdir && /Users/biocbuild/BBS/utils/build-universal.sh ADaCGH2_2.49.0.tar.gz /Library/Frameworks/R.framework/Resources/bin/R ADaCGH2.buildbin-libdir StartedAt: 2025-10-10 02:21:34 -0400 (Fri, 10 Oct 2025) EndedAt: 2025-10-10 02:22:18 -0400 (Fri, 10 Oct 2025) EllapsedTime: 43.8 seconds RetCode: 0 Status: OK PackageFile: ADaCGH2_2.49.0.tgz PackageFileSize: 1.288 MiB