Package: ADaCGH2 Version: 2.49.0 Command: /Library/Frameworks/R.framework/Resources/bin/R CMD build --keep-empty-dirs --no-resave-data ADaCGH2 StartedAt: 2025-04-27 15:35:02 -0400 (Sun, 27 Apr 2025) EndedAt: 2025-04-27 15:35:54 -0400 (Sun, 27 Apr 2025) EllapsedTime: 51.7 seconds RetCode: 0 Status: OK PackageFile: ADaCGH2_2.49.0.tar.gz PackageFileSize: 1.172 MiB