Package: ADImpute Version: 1.17.0 Command: /Library/Frameworks/R.framework/Resources/bin/R CMD check --install=check:ADImpute.install-out.txt --library=/Library/Frameworks/R.framework/Resources/library --no-vignettes --timings ADImpute_1.17.0.tar.gz StartedAt: 2025-02-18 18:43:13 -0500 (Tue, 18 Feb 2025) EndedAt: 2025-02-18 18:46:17 -0500 (Tue, 18 Feb 2025) EllapsedTime: 184.1 seconds RetCode: 0 Status: WARNINGS CheckDir: ADImpute.Rcheck Warnings: 1