Package: ADImpute Version: 1.17.0 Command: /Library/Frameworks/R.framework/Resources/bin/R CMD build --keep-empty-dirs --no-resave-data ADImpute StartedAt: 2025-02-18 15:49:57 -0500 (Tue, 18 Feb 2025) EndedAt: 2025-02-18 15:50:33 -0500 (Tue, 18 Feb 2025) EllapsedTime: 36.7 seconds RetCode: 0 Status: OK PackageFile: ADImpute_1.17.0.tar.gz PackageFileSize: 2.117 MiB