Package: ADAPT Version: 1.1.0 Command: chmod a+r ADAPT -R && E:\biocbuild\bbs-3.21-bioc\R\bin\R.exe CMD build --keep-empty-dirs --no-resave-data ADAPT StartedAt: 2025-02-03 17:21:35 -0500 (Mon, 03 Feb 2025) EndedAt: 2025-02-03 17:24:20 -0500 (Mon, 03 Feb 2025) EllapsedTime: 164.4 seconds RetCode: 0 Status: OK PackageFile: ADAPT_1.1.0.tar.gz PackageFileSize: 361.1 KiB