Package: ADAPT Version: 1.3.0 Command: /Library/Frameworks/R.framework/Resources/bin/R CMD INSTALL ADAPT StartedAt: 2025-05-01 15:21:51 -0400 (Thu, 01 May 2025) EndedAt: 2025-05-01 15:22:17 -0400 (Thu, 01 May 2025) EllapsedTime: 26.1 seconds RetCode: 1 Status: ERROR