Package: ADAPT Version: 1.3.0 Command: /Library/Frameworks/R.framework/Resources/bin/R CMD build --keep-empty-dirs --no-resave-data ADAPT StartedAt: 2025-05-06 15:36:32 -0400 (Tue, 06 May 2025) EndedAt: 2025-05-06 15:36:39 -0400 (Tue, 06 May 2025) EllapsedTime: 7.1 seconds RetCode: 1 Status: ERROR PackageFile: None PackageFileSize: NA