Package: ADAMgui Version: 1.25.0 Command: /Library/Frameworks/R.framework/Resources/bin/R CMD build --keep-empty-dirs --no-resave-data ADAMgui StartedAt: 2025-04-29 15:34:53 -0400 (Tue, 29 Apr 2025) EndedAt: 2025-04-29 15:35:12 -0400 (Tue, 29 Apr 2025) EllapsedTime: 18.3 seconds RetCode: 0 Status: OK PackageFile: ADAMgui_1.25.0.tar.gz PackageFileSize: 1.746 MiB