Package: ADAM Version: 1.23.0 Command: /Library/Frameworks/R.framework/Resources/bin/R CMD INSTALL ADAM StartedAt: 2025-02-16 15:20:22 -0500 (Sun, 16 Feb 2025) EndedAt: 2025-02-16 15:21:04 -0500 (Sun, 16 Feb 2025) EllapsedTime: 42.5 seconds RetCode: 0 Status: OK