Package: ABSSeq Version: 1.61.0 Command: /Library/Frameworks/R.framework/Resources/bin/R CMD INSTALL ABSSeq StartedAt: 2025-02-16 15:06:53 -0500 (Sun, 16 Feb 2025) EndedAt: 2025-02-16 15:07:25 -0500 (Sun, 16 Feb 2025) EllapsedTime: 31.1 seconds RetCode: 0 Status: OK