Back to
Workflows build report for BioC 3.9
Workflows build report for BioC 3.9
Results for cytofWorkflow
This page was generated on 2019-10-16 13:50:15 -0400 (Wed, 16 Oct 2019).
Package
8
/27
Hostname
OS / Arch
INSTALL
BUILD
cytofWorkflow
1.8.6
Mark D. Robinson
Snapshot Date:
2019-10-16 11:00:01 -0400 (Wed, 16 Oct 2019)
URL:
https://git.bioconductor.org/packages/cytofWorkflow
Branch:
RELEASE_3_9
Last Commit:
f163e1e
Last Changed Date:
2019-08-23 09:59:17 -0400 (Fri, 23 Aug 2019)
malbec2
Linux (Ubuntu 18.04.2 LTS) / x86_64
OK
OK