| Back to Multiple platform build/check report for BioC 3.9 |
|
This page was generated on 2019-03-19 12:40:15 -0400 (Tue, 19 Mar 2019).
| Package 272/1676 | Hostname | OS / Arch | INSTALL | BUILD | CHECK | ||||||
| cleanUpdTSeq 1.21.0 Sarah Sheppard
| malbec2 | Linux (Ubuntu 18.04.2 LTS) / x86_64 | OK | OK | OK | ||||||
| tokay2 | Windows Server 2012 R2 Standard / x64 | OK | OK | OK | |||||||
| merida2 | OS X 10.11.6 El Capitan / x86_64 | OK | OK | OK | |||||||
| celaya2 | OS X 10.11.6 El Capitan / x86_64 | OK | OK | OK |
| Package: cleanUpdTSeq |
| Version: 1.21.0 |
| Command: rm -rf cleanUpdTSeq.buildbin-libdir && mkdir cleanUpdTSeq.buildbin-libdir && /Users/biocbuild/BBS/utils/build-universal.sh cleanUpdTSeq_1.21.0.tar.gz /Library/Frameworks/R.framework/Versions/Current/Resources/bin/R cleanUpdTSeq.buildbin-libdir |
| StartedAt: 2019-03-19 04:44:26 -0400 (Tue, 19 Mar 2019) |
| EndedAt: 2019-03-19 04:45:53 -0400 (Tue, 19 Mar 2019) |
| EllapsedTime: 86.8 seconds |
| RetCode: 0 |
| Status: OK |
| PackageFile: cleanUpdTSeq_1.21.0.tgz |
| PackageFileSize: 4.164 MiB |
############################################################################## ############################################################################## ### ### Running command: ### ### rm -rf cleanUpdTSeq.buildbin-libdir && mkdir cleanUpdTSeq.buildbin-libdir && /Users/biocbuild/BBS/utils/build-universal.sh cleanUpdTSeq_1.21.0.tar.gz /Library/Frameworks/R.framework/Versions/Current/Resources/bin/R cleanUpdTSeq.buildbin-libdir ### ############################################################################## ############################################################################## >>>>>>> >>>>>>> INSTALLATION WITH 'R CMD INSTALL --preclean --no-multiarch --library=cleanUpdTSeq.buildbin-libdir cleanUpdTSeq_1.21.0.tar.gz' >>>>>>> * installing *source* package ‘cleanUpdTSeq’ ... ** R ** data ** inst ** byte-compile and prepare package for lazy loading ** help *** installing help indices ** building package indices ** installing vignettes ** testing if installed package can be loaded * DONE (cleanUpdTSeq)