| Back to Multiple platform build/check report for BioC 3.9 |
|
This page was generated on 2019-10-16 12:29:08 -0400 (Wed, 16 Oct 2019).
| Package 651/1741 | Hostname | OS / Arch | INSTALL | BUILD | CHECK | BUILD BIN | ||||||
| GenomeInfoDb 1.20.0 Bioconductor Package Maintainer
| malbec2 | Linux (Ubuntu 18.04.2 LTS) / x86_64 | OK | OK | OK | |||||||
| tokay2 | Windows Server 2012 R2 Standard / x64 | OK | OK | WARNINGS | [ OK ] | |||||||
| celaya2 | OS X 10.11.6 El Capitan / x86_64 | OK | OK | OK | OK |
| Package: GenomeInfoDb |
| Version: 1.20.0 |
| Command: rm -rf GenomeInfoDb.buildbin-libdir && mkdir GenomeInfoDb.buildbin-libdir && C:\Users\biocbuild\bbs-3.9-bioc\R\bin\R.exe CMD INSTALL --merge-multiarch --build --library=GenomeInfoDb.buildbin-libdir GenomeInfoDb_1.20.0.tar.gz |
| StartedAt: 2019-10-16 09:18:24 -0400 (Wed, 16 Oct 2019) |
| EndedAt: 2019-10-16 09:18:55 -0400 (Wed, 16 Oct 2019) |
| EllapsedTime: 30.5 seconds |
| RetCode: 0 |
| Status: OK |
| PackageFile: GenomeInfoDb_1.20.0.zip |
| PackageFileSize: 3.652 MiB |
##############################################################################
##############################################################################
###
### Running command:
###
### rm -rf GenomeInfoDb.buildbin-libdir && mkdir GenomeInfoDb.buildbin-libdir && C:\Users\biocbuild\bbs-3.9-bioc\R\bin\R.exe CMD INSTALL --merge-multiarch --build --library=GenomeInfoDb.buildbin-libdir GenomeInfoDb_1.20.0.tar.gz
###
##############################################################################
##############################################################################
install for i386
* installing *source* package 'GenomeInfoDb' ...
** using staged installation
** R
** inst
** byte-compile and prepare package for lazy loading
** help
*** installing help indices
converting help for package 'GenomeInfoDb'
finding HTML links ... done
GenomeDescription-class html
Rd warning: C:/Users/biocbuild/bbs-3.9-bioc/tmpdir/Rtmpy6lSMa/R.INSTALL2a501f5f1429/GenomeInfoDb/man/GenomeDescription-class.Rd:45: file link 'BSgenome' in package 'BSgenome' does not exist and so has been treated as a topic
Rd warning: C:/Users/biocbuild/bbs-3.9-bioc/tmpdir/Rtmpy6lSMa/R.INSTALL2a501f5f1429/GenomeInfoDb/man/GenomeDescription-class.Rd:46: file link 'BSgenome' in package 'BSgenome' does not exist and so has been treated as a topic
Rd warning: C:/Users/biocbuild/bbs-3.9-bioc/tmpdir/Rtmpy6lSMa/R.INSTALL2a501f5f1429/GenomeInfoDb/man/GenomeDescription-class.Rd:126: file link 'BSgenome' in package 'BSgenome' does not exist and so has been treated as a topic
Seqinfo-class html
fetchExtendedChromInfoFromUCSC html
Rd warning: C:/Users/biocbuild/bbs-3.9-bioc/tmpdir/Rtmpy6lSMa/R.INSTALL2a501f5f1429/GenomeInfoDb/man/fetchExtendedChromInfoFromUCSC.Rd:130: file link 'getBSgenome' in package 'BSgenome' does not exist and so has been treated as a topic
loadTaxonomyDb html
mapGenomeBuilds html
rankSeqlevels html
seqinfo html
Rd warning: C:/Users/biocbuild/bbs-3.9-bioc/tmpdir/Rtmpy6lSMa/R.INSTALL2a501f5f1429/GenomeInfoDb/man/seqinfo.Rd:82: file link 'GRanges' in package 'GenomicRanges' does not exist and so has been treated as a topic
Rd warning: C:/Users/biocbuild/bbs-3.9-bioc/tmpdir/Rtmpy6lSMa/R.INSTALL2a501f5f1429/GenomeInfoDb/man/seqinfo.Rd:105: file link 'GRangesList' in package 'GenomicRanges' does not exist and so has been treated as a topic
Rd warning: C:/Users/biocbuild/bbs-3.9-bioc/tmpdir/Rtmpy6lSMa/R.INSTALL2a501f5f1429/GenomeInfoDb/man/seqinfo.Rd:106: file link 'GAlignmentPairs' in package 'GenomicAlignments' does not exist and so has been treated as a topic
Rd warning: C:/Users/biocbuild/bbs-3.9-bioc/tmpdir/Rtmpy6lSMa/R.INSTALL2a501f5f1429/GenomeInfoDb/man/seqinfo.Rd:107: file link 'GAlignmentsList' in package 'GenomicAlignments' does not exist and so has been treated as a topic
Rd warning: C:/Users/biocbuild/bbs-3.9-bioc/tmpdir/Rtmpy6lSMa/R.INSTALL2a501f5f1429/GenomeInfoDb/man/seqinfo.Rd:116: file link 'GRangesList' in package 'GenomicRanges' does not exist and so has been treated as a topic
Rd warning: C:/Users/biocbuild/bbs-3.9-bioc/tmpdir/Rtmpy6lSMa/R.INSTALL2a501f5f1429/GenomeInfoDb/man/seqinfo.Rd:118: file link 'exonsBy' in package 'GenomicFeatures' does not exist and so has been treated as a topic
Rd warning: C:/Users/biocbuild/bbs-3.9-bioc/tmpdir/Rtmpy6lSMa/R.INSTALL2a501f5f1429/GenomeInfoDb/man/seqinfo.Rd:131: file link 'GRangesList' in package 'GenomicRanges' does not exist and so has been treated as a topic
Rd warning: C:/Users/biocbuild/bbs-3.9-bioc/tmpdir/Rtmpy6lSMa/R.INSTALL2a501f5f1429/GenomeInfoDb/man/seqinfo.Rd:136: file link 'GRanges' in package 'GenomicRanges' does not exist and so has been treated as a topic
Rd warning: C:/Users/biocbuild/bbs-3.9-bioc/tmpdir/Rtmpy6lSMa/R.INSTALL2a501f5f1429/GenomeInfoDb/man/seqinfo.Rd:137: file link 'GAlignments' in package 'GenomicAlignments' does not exist and so has been treated as a topic
Rd warning: C:/Users/biocbuild/bbs-3.9-bioc/tmpdir/Rtmpy6lSMa/R.INSTALL2a501f5f1429/GenomeInfoDb/man/seqinfo.Rd:182: file link 'GRanges' in package 'GenomicRanges' does not exist and so has been treated as a topic
Rd warning: C:/Users/biocbuild/bbs-3.9-bioc/tmpdir/Rtmpy6lSMa/R.INSTALL2a501f5f1429/GenomeInfoDb/man/seqinfo.Rd:182: file link 'GRangesList' in package 'GenomicRanges' does not exist and so has been treated as a topic
Rd warning: C:/Users/biocbuild/bbs-3.9-bioc/tmpdir/Rtmpy6lSMa/R.INSTALL2a501f5f1429/GenomeInfoDb/man/seqinfo.Rd:184: file link 'SummarizedExperiment' in package 'SummarizedExperiment' does not exist and so has been treated as a topic
Rd warning: C:/Users/biocbuild/bbs-3.9-bioc/tmpdir/Rtmpy6lSMa/R.INSTALL2a501f5f1429/GenomeInfoDb/man/seqinfo.Rd:186: file link 'GAlignments' in package 'GenomicAlignments' does not exist and so has been treated as a topic
Rd warning: C:/Users/biocbuild/bbs-3.9-bioc/tmpdir/Rtmpy6lSMa/R.INSTALL2a501f5f1429/GenomeInfoDb/man/seqinfo.Rd:187: file link 'GAlignmentPairs' in package 'GenomicAlignments' does not exist and so has been treated as a topic
Rd warning: C:/Users/biocbuild/bbs-3.9-bioc/tmpdir/Rtmpy6lSMa/R.INSTALL2a501f5f1429/GenomeInfoDb/man/seqinfo.Rd:188: file link 'GAlignmentsList' in package 'GenomicAlignments' does not exist and so has been treated as a topic
Rd warning: C:/Users/biocbuild/bbs-3.9-bioc/tmpdir/Rtmpy6lSMa/R.INSTALL2a501f5f1429/GenomeInfoDb/man/seqinfo.Rd:190: file link 'TxDb' in package 'GenomicFeatures' does not exist and so has been treated as a topic
Rd warning: C:/Users/biocbuild/bbs-3.9-bioc/tmpdir/Rtmpy6lSMa/R.INSTALL2a501f5f1429/GenomeInfoDb/man/seqinfo.Rd:192: file link 'BSgenome' in package 'BSgenome' does not exist and so has been treated as a topic
Rd warning: C:/Users/biocbuild/bbs-3.9-bioc/tmpdir/Rtmpy6lSMa/R.INSTALL2a501f5f1429/GenomeInfoDb/man/seqinfo.Rd:226: file link 'GRanges' in package 'GenomicRanges' does not exist and so has been treated as a topic
Rd warning: C:/Users/biocbuild/bbs-3.9-bioc/tmpdir/Rtmpy6lSMa/R.INSTALL2a501f5f1429/GenomeInfoDb/man/seqinfo.Rd:226: file link 'GRangesList' in package 'GenomicRanges' does not exist and so has been treated as a topic
Rd warning: C:/Users/biocbuild/bbs-3.9-bioc/tmpdir/Rtmpy6lSMa/R.INSTALL2a501f5f1429/GenomeInfoDb/man/seqinfo.Rd:229: file link 'SummarizedExperiment' in package 'SummarizedExperiment' does not exist and so has been treated as a topic
Rd warning: C:/Users/biocbuild/bbs-3.9-bioc/tmpdir/Rtmpy6lSMa/R.INSTALL2a501f5f1429/GenomeInfoDb/man/seqinfo.Rd:232: file link 'GAlignments' in package 'GenomicAlignments' does not exist and so has been treated as a topic
Rd warning: C:/Users/biocbuild/bbs-3.9-bioc/tmpdir/Rtmpy6lSMa/R.INSTALL2a501f5f1429/GenomeInfoDb/man/seqinfo.Rd:233: file link 'GAlignmentPairs' in package 'GenomicAlignments' does not exist and so has been treated as a topic
Rd warning: C:/Users/biocbuild/bbs-3.9-bioc/tmpdir/Rtmpy6lSMa/R.INSTALL2a501f5f1429/GenomeInfoDb/man/seqinfo.Rd:234: file link 'GAlignmentsList' in package 'GenomicAlignments' does not exist and so has been treated as a topic
Rd warning: C:/Users/biocbuild/bbs-3.9-bioc/tmpdir/Rtmpy6lSMa/R.INSTALL2a501f5f1429/GenomeInfoDb/man/seqinfo.Rd:237: file link 'TxDb' in package 'GenomicFeatures' does not exist and so has been treated as a topic
Rd warning: C:/Users/biocbuild/bbs-3.9-bioc/tmpdir/Rtmpy6lSMa/R.INSTALL2a501f5f1429/GenomeInfoDb/man/seqinfo.Rd:240: file link 'BSgenome' in package 'BSgenome' does not exist and so has been treated as a topic
seqlevels-wrappers html
seqlevelsStyle html
** building package indices
** installing vignettes
** testing if installed package can be loaded from temporary location
** testing if installed package can be loaded from final location
** testing if installed package keeps a record of temporary installation path
install for x64
* installing *source* package 'GenomeInfoDb' ...
** testing if installed package can be loaded
* MD5 sums
packaged installation of 'GenomeInfoDb' as GenomeInfoDb_1.20.0.zip
* DONE (GenomeInfoDb)