| Back to Multiple platform build/check report for BioC 3.9 | 
 | 
This page was generated on 2019-04-09 12:01:25 -0400 (Tue, 09 Apr 2019).
| Package 1200/1703 | Hostname | OS / Arch | INSTALL | BUILD | CHECK | BUILD BIN | ||||||
| plrs 1.23.0 Gwenael G.R. Leday to 
 | malbec2 | Linux (Ubuntu 18.04.2 LTS) / x86_64 | OK | OK | OK |  | ||||||
| tokay2 | Windows Server 2012 R2 Standard / x64 | OK | OK | WARNINGS | [ OK ] |  | ||||||
| celaya2 | OS X 10.11.6 El Capitan / x86_64 | OK | OK | OK | OK |  | ||||||
| merida2 | OS X 10.11.6 El Capitan / x86_64 | OK | OK | OK | OK | 
| Package: plrs | 
| Version: 1.23.0 | 
| Command: rm -rf plrs.buildbin-libdir && mkdir plrs.buildbin-libdir && C:\Users\biocbuild\bbs-3.9-bioc\R\bin\R.exe CMD INSTALL --merge-multiarch --build --library=plrs.buildbin-libdir plrs_1.23.0.tar.gz | 
| StartedAt: 2019-04-09 08:41:23 -0400 (Tue, 09 Apr 2019) | 
| EndedAt: 2019-04-09 08:42:11 -0400 (Tue, 09 Apr 2019) | 
| EllapsedTime: 48.3 seconds | 
| RetCode: 0 | 
| Status: OK | 
| PackageFile: plrs_1.23.0.zip | 
| PackageFileSize: 1.083 MiB | 
##############################################################################
##############################################################################
###
### Running command:
###
###   rm -rf plrs.buildbin-libdir && mkdir plrs.buildbin-libdir && C:\Users\biocbuild\bbs-3.9-bioc\R\bin\R.exe CMD INSTALL --merge-multiarch --build --library=plrs.buildbin-libdir plrs_1.23.0.tar.gz
###
##############################################################################
##############################################################################
install for i386
* installing *source* package 'plrs' ...
** R
** data
** inst
** byte-compile and prepare package for lazy loading
** help
*** installing help indices
  converting help for package 'plrs'
    finding HTML links ... done
    criteria                                html  
    modify.conf                             html  
    neveCN17                                html  
Rd warning: C:/Users/biocbuild/bbs-3.9-bioc/tmpdir/RtmpO2bGaW/R.INSTALL2ac03dc5154d/plrs/man/neveCN17.Rd:15: file link 'cghCall' in package 'CGHbase' does not exist and so has been treated as a topic
    neveGE17                                html  
Rd warning: C:/Users/biocbuild/bbs-3.9-bioc/tmpdir/RtmpO2bGaW/R.INSTALL2ac03dc5154d/plrs/man/neveGE17.Rd:15: file link 'ExpressionSet' in package 'Biobase' does not exist and so has been treated as a topic
    plot-methods                            html  
    plrs-class                              html  
    plrs-package                            html  
    plrs                                    html  
    plrs.cb                                 html  
    plrs.select-class                       html  
    plrs.select                             html  
    plrs.series-class                       html  
    plrs.series                             html  
Rd warning: C:/Users/biocbuild/bbs-3.9-bioc/tmpdir/RtmpO2bGaW/R.INSTALL2ac03dc5154d/plrs/man/plrs.series.Rd:32: file link 'ExpressionSet' in package 'Biobase' does not exist and so has been treated as a topic
Rd warning: C:/Users/biocbuild/bbs-3.9-bioc/tmpdir/RtmpO2bGaW/R.INSTALL2ac03dc5154d/plrs/man/plrs.series.Rd:33: file link 'cghSeg' in package 'CGHbase' does not exist and so has been treated as a topic
Rd warning: C:/Users/biocbuild/bbs-3.9-bioc/tmpdir/RtmpO2bGaW/R.INSTALL2ac03dc5154d/plrs/man/plrs.series.Rd:33: file link 'cghCall' in package 'CGHbase' does not exist and so has been treated as a topic
Rd warning: C:/Users/biocbuild/bbs-3.9-bioc/tmpdir/RtmpO2bGaW/R.INSTALL2ac03dc5154d/plrs/man/plrs.series.Rd:47: file link 'ExpressionSet' in package 'Biobase' does not exist and so has been treated as a topic
Rd warning: C:/Users/biocbuild/bbs-3.9-bioc/tmpdir/RtmpO2bGaW/R.INSTALL2ac03dc5154d/plrs/man/plrs.series.Rd:48: file link 'cghSeg' in package 'CGHbase' does not exist and so has been treated as a topic
Rd warning: C:/Users/biocbuild/bbs-3.9-bioc/tmpdir/RtmpO2bGaW/R.INSTALL2ac03dc5154d/plrs/man/plrs.series.Rd:48: file link 'cghCall' in package 'CGHbase' does not exist and so has been treated as a topic
Rd warning: C:/Users/biocbuild/bbs-3.9-bioc/tmpdir/RtmpO2bGaW/R.INSTALL2ac03dc5154d/plrs/man/plrs.series.Rd:50: file link 'cghSeg' in package 'CGHbase' does not exist and so has been treated as a topic
    plrs.sim                                html  
    plrs.test                               html  
    predict.plrs                            html  
** building package indices
** installing vignettes
** testing if installed package can be loaded from temporary location
** testing if installed package can be loaded from final location
** testing if installed package keeps a record of temporary installation path
install for x64
* installing *source* package 'plrs' ...
** testing if installed package can be loaded
* MD5 sums
packaged installation of 'plrs' as plrs_1.23.0.zip
* DONE (plrs)