| Back to Multiple platform build/check report for BioC 3.9 | 
 | 
This page was generated on 2019-04-09 12:07:43 -0400 (Tue, 09 Apr 2019).
| Package 1035/1703 | Hostname | OS / Arch | INSTALL | BUILD | CHECK | BUILD BIN | ||||||
| msmsEDA 1.21.1 Josep Gregori 
 | malbec2 | Linux (Ubuntu 18.04.2 LTS) / x86_64 | OK | OK | OK |  | ||||||
| tokay2 | Windows Server 2012 R2 Standard / x64 | OK | OK | OK | [ OK ] |  | ||||||
| celaya2 | OS X 10.11.6 El Capitan / x86_64 | OK | OK | OK | OK |  | ||||||
| merida2 | OS X 10.11.6 El Capitan / x86_64 | OK | OK | OK | OK | 
| Package: msmsEDA | 
| Version: 1.21.1 | 
| Command: rm -rf msmsEDA.buildbin-libdir && mkdir msmsEDA.buildbin-libdir && C:\Users\biocbuild\bbs-3.9-bioc\R\bin\R.exe CMD INSTALL --merge-multiarch --build --library=msmsEDA.buildbin-libdir msmsEDA_1.21.1.tar.gz | 
| StartedAt: 2019-04-09 08:31:32 -0400 (Tue, 09 Apr 2019) | 
| EndedAt: 2019-04-09 08:32:06 -0400 (Tue, 09 Apr 2019) | 
| EllapsedTime: 33.7 seconds | 
| RetCode: 0 | 
| Status: OK | 
| PackageFile: msmsEDA_1.21.1.zip | 
| PackageFileSize: 417.7 KiB | 
##############################################################################
##############################################################################
###
### Running command:
###
###   rm -rf msmsEDA.buildbin-libdir && mkdir msmsEDA.buildbin-libdir && C:\Users\biocbuild\bbs-3.9-bioc\R\bin\R.exe CMD INSTALL --merge-multiarch --build --library=msmsEDA.buildbin-libdir msmsEDA_1.21.1.tar.gz
###
##############################################################################
##############################################################################
install for i386
* installing *source* package 'msmsEDA' ...
** R
** data
** inst
** byte-compile and prepare package for lazy loading
** help
*** installing help indices
  converting help for package 'msmsEDA'
    finding HTML links ... done
    batch.neutralize                        html  
    finding level-2 HTML links ... done
    count.stats                             html  
    counts.hc                               html  
    counts.heatmap                          html  
    counts.pca                              html  
    disp.estimates                          html  
    filter.flags                            html  
    gene.table                              html  
    msms.dataset                            html  
    msmsEDA-package                         html  
    norm.counts                             html  
    pnms                                    html  
    pp.msms.data                            html  
    spc.barplots                            html  
    spc.boxplots                            html  
    spc.densityplots                        html  
    spc.scatterplot                         html  
** building package indices
** installing vignettes
** testing if installed package can be loaded from temporary location
** testing if installed package can be loaded from final location
** testing if installed package keeps a record of temporary installation path
install for x64
* installing *source* package 'msmsEDA' ...
** testing if installed package can be loaded
* MD5 sums
packaged installation of 'msmsEDA' as msmsEDA_1.21.1.zip
* DONE (msmsEDA)