More about malbec2
| Hostname: | malbec2 | 
| OS: | Linux (Ubuntu 18.04.2 LTS) | 
| Arch: | x86_64 | 
| Platform: | x86_64-linux-gnu | 
| R version: | R Under development (unstable) (2019-03-18 r76245) -- "Unsuffered Consequences" | 
 
C compiler
| R variable (VAR) | Value ('R CMD config <VAR>' output) | 
| CC | gcc | 
| CFLAGS | -g -O2 -Wall | 
| CPICFLAGS | -fpic | 
| CPP | gcc -E | 
| Please refer to 'R CMD config -h' for the meaning of these variables | 
Compiler version ('gcc --version' output):
gcc (Ubuntu 7.3.0-27ubuntu1~18.04) 7.3.0
Copyright (C) 2017 Free Software Foundation, Inc.
This is free software; see the source for copying conditions.  There is NO
warranty; not even for MERCHANTABILITY or FITNESS FOR A PARTICULAR PURPOSE.
 
C++ compiler
| R variable (VAR) | Value ('R CMD config <VAR>' output) | 
| CXX | g++ -std=gnu++11 | 
| CXXFLAGS | -g -O2 -Wall | 
| CXXPICFLAGS | -fpic | 
| CXXCPP | g++ -std=gnu++11 -E | 
| Please refer to 'R CMD config -h' for the meaning of these variables | 
Compiler version ('g++ -std=gnu++11 --version' output):
g++ (Ubuntu 7.3.0-27ubuntu1~18.04) 7.3.0
Copyright (C) 2017 Free Software Foundation, Inc.
This is free software; see the source for copying conditions.  There is NO
warranty; not even for MERCHANTABILITY or FITNESS FOR A PARTICULAR PURPOSE.
 
C++98 compiler
| R variable (VAR) | Value ('R CMD config <VAR>' output) | 
| CXX98 | g++ | 
| CXX98FLAGS | -g -O2 -Wall | 
| CXX98PICFLAGS | -fpic | 
| CXX98STD | -std=gnu++98 | 
| Please refer to 'R CMD config -h' for the meaning of these variables | 
Compiler version ('g++ --version' output):
g++ (Ubuntu 7.3.0-27ubuntu1~18.04) 7.3.0
Copyright (C) 2017 Free Software Foundation, Inc.
This is free software; see the source for copying conditions.  There is NO
warranty; not even for MERCHANTABILITY or FITNESS FOR A PARTICULAR PURPOSE.
 
C++11 compiler
| R variable (VAR) | Value ('R CMD config <VAR>' output) | 
| CXX11 | g++ | 
| CXX11FLAGS | -g -O2 -Wall | 
| CXX11PICFLAGS | -fpic | 
| CXX11STD | -std=gnu++11 | 
| Please refer to 'R CMD config -h' for the meaning of these variables | 
Compiler version ('g++ --version' output):
g++ (Ubuntu 7.3.0-27ubuntu1~18.04) 7.3.0
Copyright (C) 2017 Free Software Foundation, Inc.
This is free software; see the source for copying conditions.  There is NO
warranty; not even for MERCHANTABILITY or FITNESS FOR A PARTICULAR PURPOSE.
 
C++14 compiler
| R variable (VAR) | Value ('R CMD config <VAR>' output) | 
| CXX14 | g++ | 
| CXX14FLAGS | -O3 -march=native -mtune=native -fPIC | 
| CXX14PICFLAGS | -fpic | 
| CXX14STD | -std=gnu++14 | 
| Please refer to 'R CMD config -h' for the meaning of these variables | 
Compiler version ('g++ --version' output):
g++ (Ubuntu 7.3.0-27ubuntu1~18.04) 7.3.0
Copyright (C) 2017 Free Software Foundation, Inc.
This is free software; see the source for copying conditions.  There is NO
warranty; not even for MERCHANTABILITY or FITNESS FOR A PARTICULAR PURPOSE.
 
Fortran 77 compiler
| R variable (VAR) | Value ('R CMD config <VAR>' output) | 
| F77 | gfortran | 
| FFLAGS | -g -O2 -Wall | 
| FLIBS | -lgfortran -lm -lquadmath | 
| FPICFLAGS | -fpic | 
| Please refer to 'R CMD config -h' for the meaning of these variables | 
Compiler version ('gfortran --version' output):
GNU Fortran (Ubuntu 7.3.0-27ubuntu1~18.04) 7.3.0
Copyright (C) 2017 Free Software Foundation, Inc.
This is free software; see the source for copying conditions.  There is NO
warranty; not even for MERCHANTABILITY or FITNESS FOR A PARTICULAR PURPOSE.
 
Fortran 9x compiler
| R variable (VAR) | Value ('R CMD config <VAR>' output) | 
| FC | gfortran | 
| FCFLAGS | -g -O2 | 
| FCPICFLAGS | -fpic | 
| Please refer to 'R CMD config -h' for the meaning of these variables | 
Compiler version ('gfortran --version' output):
GNU Fortran (Ubuntu 7.3.0-27ubuntu1~18.04) 7.3.0
Copyright (C) 2017 Free Software Foundation, Inc.
This is free software; see the source for copying conditions.  There is NO
warranty; not even for MERCHANTABILITY or FITNESS FOR A PARTICULAR PURPOSE.
 
More information might be added in the future...