| Back to Multiple platform build/check report for BioC 3.9 |
|
This page was generated on 2019-04-09 11:54:28 -0400 (Tue, 09 Apr 2019).
| Package 534/1703 | Hostname | OS / Arch | INSTALL | BUILD | CHECK | BUILD BIN | ||||||
| fdrame 1.55.0 Effi Kenigsberg
| malbec2 | Linux (Ubuntu 18.04.2 LTS) / x86_64 | OK | OK | OK | |||||||
| tokay2 | Windows Server 2012 R2 Standard / x64 | OK | OK | OK | [ OK ] | |||||||
| celaya2 | OS X 10.11.6 El Capitan / x86_64 | OK | OK | OK | OK | |||||||
| merida2 | OS X 10.11.6 El Capitan / x86_64 | OK | OK | OK | OK |
| Package: fdrame |
| Version: 1.55.0 |
| Command: rm -rf fdrame.buildbin-libdir && mkdir fdrame.buildbin-libdir && C:\Users\biocbuild\bbs-3.9-bioc\R\bin\R.exe CMD INSTALL --merge-multiarch --build --library=fdrame.buildbin-libdir fdrame_1.55.0.tar.gz |
| StartedAt: 2019-04-09 07:53:51 -0400 (Tue, 09 Apr 2019) |
| EndedAt: 2019-04-09 07:54:47 -0400 (Tue, 09 Apr 2019) |
| EllapsedTime: 55.5 seconds |
| RetCode: 0 |
| Status: OK |
| PackageFile: fdrame_1.55.0.zip |
| PackageFileSize: 1013 KiB |
##############################################################################
##############################################################################
###
### Running command:
###
### rm -rf fdrame.buildbin-libdir && mkdir fdrame.buildbin-libdir && C:\Users\biocbuild\bbs-3.9-bioc\R\bin\R.exe CMD INSTALL --merge-multiarch --build --library=fdrame.buildbin-libdir fdrame_1.55.0.tar.gz
###
##############################################################################
##############################################################################
install for i386
* installing *source* package 'fdrame' ...
** libs
C:/Rtools/mingw_32/bin/gcc -I"C:/Users/BIOCBU˜1/BBS-3˜1.9-B/R/include" -DNDEBUG -I"C:/extsoft/include" -O3 -Wall -std=gnu99 -mtune=generic -c fdr.c -o fdr.o
C:/Rtools/mingw_32/bin/gcc -shared -s -static-libgcc -o fdrame.dll tmp.def fdr.o -LC:/extsoft/lib/i386 -LC:/extsoft/lib -LC:/Users/BIOCBU˜1/BBS-3˜1.9-B/R/bin/i386 -lR
installing to C:/Users/biocbuild/bbs-3.9-bioc/meat/fdrame.buildbin-libdir/00LOCK-fdrame/00new/fdrame/libs/i386
** R
** data
** inst
** byte-compile and prepare package for lazy loading
** help
*** installing help indices
converting help for package 'fdrame'
finding HTML links ... done
design html
exp.arr html
fdr-internal html
fdrgui html
fdrma html
** building package indices
** installing vignettes
** testing if installed package can be loaded from temporary location
** testing if installed package can be loaded from final location
** testing if installed package keeps a record of temporary installation path
install for x64
* installing *source* package 'fdrame' ...
** libs
C:/Rtools/mingw_64/bin/gcc -I"C:/Users/BIOCBU˜1/BBS-3˜1.9-B/R/include" -DNDEBUG -I"C:/extsoft/include" -O2 -Wall -std=gnu99 -mtune=generic -c fdr.c -o fdr.o
C:/Rtools/mingw_64/bin/gcc -shared -s -static-libgcc -o fdrame.dll tmp.def fdr.o -LC:/extsoft/lib/x64 -LC:/extsoft/lib -LC:/Users/BIOCBU˜1/BBS-3˜1.9-B/R/bin/x64 -lR
installing to C:/Users/biocbuild/bbs-3.9-bioc/meat/fdrame.buildbin-libdir/fdrame/libs/x64
** testing if installed package can be loaded
* MD5 sums
packaged installation of 'fdrame' as fdrame_1.55.0.zip
* DONE (fdrame)