| Back to Multiple platform build/check report for BioC 3.9 | 
 | 
This page was generated on 2019-04-09 11:55:50 -0400 (Tue, 09 Apr 2019).
| Package 714/1703 | Hostname | OS / Arch | INSTALL | BUILD | CHECK | BUILD BIN | ||||||
| GSEABase 1.45.0 Bioconductor Package Maintainer 
 | malbec2 | Linux (Ubuntu 18.04.2 LTS) / x86_64 | OK | OK | OK |  | ||||||
| tokay2 | Windows Server 2012 R2 Standard / x64 | OK | OK | OK | [ OK ] |  | ||||||
| celaya2 | OS X 10.11.6 El Capitan / x86_64 | OK | OK | OK | OK |  | ||||||
| merida2 | OS X 10.11.6 El Capitan / x86_64 | OK | OK | OK | OK | 
| Package: GSEABase | 
| Version: 1.45.0 | 
| Command: rm -rf GSEABase.buildbin-libdir && mkdir GSEABase.buildbin-libdir && C:\Users\biocbuild\bbs-3.9-bioc\R\bin\R.exe CMD INSTALL --merge-multiarch --build --library=GSEABase.buildbin-libdir GSEABase_1.45.0.tar.gz | 
| StartedAt: 2019-04-09 08:09:31 -0400 (Tue, 09 Apr 2019) | 
| EndedAt: 2019-04-09 08:10:50 -0400 (Tue, 09 Apr 2019) | 
| EllapsedTime: 78.5 seconds | 
| RetCode: 0 | 
| Status: OK | 
| PackageFile: GSEABase_1.45.0.zip | 
| PackageFileSize: 997.5 KiB | 
##############################################################################
##############################################################################
###
### Running command:
###
###   rm -rf GSEABase.buildbin-libdir && mkdir GSEABase.buildbin-libdir && C:\Users\biocbuild\bbs-3.9-bioc\R\bin\R.exe CMD INSTALL --merge-multiarch --build --library=GSEABase.buildbin-libdir GSEABase_1.45.0.tar.gz
###
##############################################################################
##############################################################################
install for i386
* installing *source* package 'GSEABase' ...
** R
** inst
** byte-compile and prepare package for lazy loading
** help
*** installing help indices
  converting help for package 'GSEABase'
    finding HTML links ... done
    CollectionType-class                    html  
    CollectionType-constructors             html  
    GSEABase-package                        html  
    GeneColorSet-class                      html  
    GeneColorSet-methods                    html  
    GeneIdentifierType-class                html  
    GeneIdentifierType-constructors         html  
    GeneSet-class                           html  
    GeneSet-methods                         html  
    GeneSetCollection-class                 html  
    GeneSetCollection-methods               html  
    OBOCollection-class                     html  
    details-methods                         html  
    getOBOCollection                        html  
    getObjects                              html  
    goSlim-methods                          html  
    incidence-methods                       html  
    mapIdentifiers-methods                  html  
** building package indices
** installing vignettes
** testing if installed package can be loaded from temporary location
** testing if installed package can be loaded from final location
** testing if installed package keeps a record of temporary installation path
install for x64
* installing *source* package 'GSEABase' ...
** testing if installed package can be loaded
* MD5 sums
packaged installation of 'GSEABase' as GSEABase_1.45.0.zip
* DONE (GSEABase)