| Back to Multiple platform build/check report for BioC 3.9 |
|
This page was generated on 2019-04-09 12:35:46 -0400 (Tue, 09 Apr 2019).
| Package 457/1703 | Hostname | OS / Arch | INSTALL | BUILD | CHECK | BUILD BIN | ||||||
| DropletUtils 1.3.13 Aaron Lun
| malbec2 | Linux (Ubuntu 18.04.2 LTS) / x86_64 | OK | OK | OK | |||||||
| tokay2 | Windows Server 2012 R2 Standard / x64 | OK | OK | [ OK ] | OK | |||||||
| celaya2 | OS X 10.11.6 El Capitan / x86_64 | OK | OK | OK | OK | |||||||
| merida2 | OS X 10.11.6 El Capitan / x86_64 | OK | OK | OK | OK |
| Package: DropletUtils |
| Version: 1.3.13 |
| Command: C:\Users\biocbuild\bbs-3.9-bioc\R\bin\R.exe CMD check --force-multiarch --install=check:DropletUtils.install-out.txt --library=C:\Users\biocbuild\bbs-3.9-bioc\R\library --no-vignettes --timings DropletUtils_1.3.13.tar.gz |
| StartedAt: 2019-04-09 02:25:12 -0400 (Tue, 09 Apr 2019) |
| EndedAt: 2019-04-09 02:34:56 -0400 (Tue, 09 Apr 2019) |
| EllapsedTime: 583.9 seconds |
| RetCode: 0 |
| Status: OK |
| CheckDir: DropletUtils.Rcheck |
| Warnings: 0 |
##############################################################################
##############################################################################
###
### Running command:
###
### C:\Users\biocbuild\bbs-3.9-bioc\R\bin\R.exe CMD check --force-multiarch --install=check:DropletUtils.install-out.txt --library=C:\Users\biocbuild\bbs-3.9-bioc\R\library --no-vignettes --timings DropletUtils_1.3.13.tar.gz
###
##############################################################################
##############################################################################
* using log directory 'C:/Users/biocbuild/bbs-3.9-bioc/meat/DropletUtils.Rcheck'
* using R Under development (unstable) (2019-03-09 r76216)
* using platform: x86_64-w64-mingw32 (64-bit)
* using session charset: ISO8859-1
* using option '--no-vignettes'
* checking for file 'DropletUtils/DESCRIPTION' ... OK
* this is package 'DropletUtils' version '1.3.13'
* checking package namespace information ... OK
* checking package dependencies ... OK
* checking if this is a source package ... OK
* checking if there is a namespace ... OK
* checking for hidden files and directories ... OK
* checking for portable file names ... OK
* checking whether package 'DropletUtils' can be installed ... OK
* checking installed package size ... NOTE
installed size is 11.0Mb
sub-directories of 1Mb or more:
libs 10.7Mb
* checking package directory ... OK
* checking 'build' directory ... OK
* checking DESCRIPTION meta-information ... OK
* checking top-level files ... OK
* checking for left-over files ... OK
* checking index information ... OK
* checking package subdirectories ... OK
* checking R files for non-ASCII characters ... OK
* checking R files for syntax errors ... OK
* loading checks for arch 'i386'
** checking whether the package can be loaded ... OK
** checking whether the package can be loaded with stated dependencies ... OK
** checking whether the package can be unloaded cleanly ... OK
** checking whether the namespace can be loaded with stated dependencies ... OK
** checking whether the namespace can be unloaded cleanly ... OK
* loading checks for arch 'x64'
** checking whether the package can be loaded ... OK
** checking whether the package can be loaded with stated dependencies ... OK
** checking whether the package can be unloaded cleanly ... OK
** checking whether the namespace can be loaded with stated dependencies ... OK
** checking whether the namespace can be unloaded cleanly ... OK
* checking dependencies in R code ... OK
* checking S3 generic/method consistency ... OK
* checking replacement functions ... OK
* checking foreign function calls ... OK
* checking R code for possible problems ... OK
* checking Rd files ... OK
* checking Rd metadata ... OK
* checking Rd cross-references ... OK
* checking for missing documentation entries ... OK
* checking for code/documentation mismatches ... OK
* checking Rd \usage sections ... OK
* checking Rd contents ... OK
* checking for unstated dependencies in examples ... OK
* checking line endings in C/C++/Fortran sources/headers ... OK
* checking line endings in Makefiles ... OK
* checking compilation flags in Makevars ... OK
* checking for GNU extensions in Makefiles ... OK
* checking for portable use of $(BLAS_LIBS) and $(LAPACK_LIBS) ... OK
* checking compiled code ... NOTE
Note: information on .o files for i386 is not available
Note: information on .o files for x64 is not available
File 'C:/Users/biocbuild/bbs-3.9-bioc/R/library/DropletUtils/libs/i386/DropletUtils.dll':
Found 'abort', possibly from 'abort' (C), 'runtime' (Fortran)
Found 'exit', possibly from 'exit' (C), 'stop' (Fortran)
Found 'printf', possibly from 'printf' (C)
Found 'puts', possibly from 'printf' (C), 'puts' (C)
File 'C:/Users/biocbuild/bbs-3.9-bioc/R/library/DropletUtils/libs/x64/DropletUtils.dll':
Found 'abort', possibly from 'abort' (C), 'runtime' (Fortran)
Found 'exit', possibly from 'exit' (C), 'stop' (Fortran)
Found 'printf', possibly from 'printf' (C)
Found 'puts', possibly from 'printf' (C), 'puts' (C)
Compiled code should not call entry points which might terminate R nor
write to stdout/stderr instead of to the console, nor use Fortran I/O
nor system RNGs. The detected symbols are linked into the code but
might come from libraries and not actually be called.
See 'Writing portable packages' in the 'Writing R Extensions' manual.
* checking files in 'vignettes' ... OK
* checking examples ...
** running examples for arch 'i386' ... OK
Examples with CPU or elapsed time > 5s
user system elapsed
emptyDrops 6.63 0.08 6.7
** running examples for arch 'x64' ... OK
Examples with CPU or elapsed time > 5s
user system elapsed
emptyDrops 5.89 0.2 6.1
* checking for unstated dependencies in 'tests' ... OK
* checking tests ...
** running tests for arch 'i386' ...
Running 'testthat.R'
OK
** running tests for arch 'x64' ...
Running 'testthat.R'
OK
* checking for unstated dependencies in vignettes ... OK
* checking package vignettes in 'inst/doc' ... OK
* checking running R code from vignettes ... SKIPPED
* checking re-building of vignette outputs ... SKIPPED
* checking PDF version of manual ... OK
* DONE
Status: 2 NOTEs
See
'C:/Users/biocbuild/bbs-3.9-bioc/meat/DropletUtils.Rcheck/00check.log'
for details.
DropletUtils.Rcheck/00install.out
##############################################################################
##############################################################################
###
### Running command:
###
### C:\cygwin\bin\curl.exe -O https://malbec2.bioconductor.org/BBS/3.9/bioc/src/contrib/DropletUtils_1.3.13.tar.gz && rm -rf DropletUtils.buildbin-libdir && mkdir DropletUtils.buildbin-libdir && C:\Users\biocbuild\bbs-3.9-bioc\R\bin\R.exe CMD INSTALL --merge-multiarch --build --library=DropletUtils.buildbin-libdir DropletUtils_1.3.13.tar.gz && C:\Users\biocbuild\bbs-3.9-bioc\R\bin\R.exe CMD INSTALL DropletUtils_1.3.13.zip && rm DropletUtils_1.3.13.tar.gz DropletUtils_1.3.13.zip
###
##############################################################################
##############################################################################
% Total % Received % Xferd Average Speed Time Time Time Current
Dload Upload Total Spent Left Speed
0 0 0 0 0 0 0 0 --:--:-- --:--:-- --:--:-- 0
100 50167 100 50167 0 0 829k 0 --:--:-- --:--:-- --:--:-- 942k
install for i386
* installing *source* package 'DropletUtils' ...
** libs
C:/Rtools/mingw_32/bin/g++ -std=gnu++11 -I"C:/Users/BIOCBU˜1/BBS-3˜1.9-B/R/include" -DNDEBUG -I"C:/Users/biocbuild/bbs-3.9-bioc/R/library/Rcpp/include" -I"C:/Users/biocbuild/bbs-3.9-bioc/R/library/beachmat/include" -I"C:/Users/biocbuild/bbs-3.9-bioc/R/library/Rhdf5lib/include" -I"C:/Users/biocbuild/bbs-3.9-bioc/R/library/BH/include" -I"C:/Users/biocbuild/bbs-3.9-bioc/R/library/dqrng/include" -I"C:/extsoft/include" -O2 -Wall -mtune=generic -c compute_multinom.cpp -o compute_multinom.o
compute_multinom.cpp: In instantiation of 'SEXPREC* compute_multinom_internal(SEXP, SEXP, SEXP) [with V = Rcpp::Vector<13>; MAT = beachmat::lin_matrix<int, Rcpp::Vector<13> >; SEXP = SEXPREC*]':
compute_multinom.cpp:73:105: required from here
compute_multinom.cpp:41:23: warning: comparison between signed and unsigned integer expressions [-Wsign-compare]
if (ambient.size()!=NR) {
^
compute_multinom.cpp: In instantiation of 'SEXPREC* compute_multinom_internal(SEXP, SEXP, SEXP) [with V = Rcpp::Vector<14, Rcpp::PreserveStorage>; MAT = beachmat::lin_matrix<double, Rcpp::Vector<14, Rcpp::PreserveStorage> >; SEXP = SEXPREC*]':
compute_multinom.cpp:75:105: required from here
compute_multinom.cpp:41:23: warning: comparison between signed and unsigned integer expressions [-Wsign-compare]
In file included from compute_multinom.cpp:5:0:
C:/Users/biocbuild/bbs-3.9-bioc/R/library/beachmat/include/beachmat/utils/const_column.h: In instantiation of 'Rcpp::traits::storage_type<13>::type* beachmat::const_column<M>::get_indices() [with M = beachmat::lin_matrix<int, Rcpp::Vector<13> >; Rcpp::Vector<13>::iterator = int*; Rcpp::traits::storage_type<13>::type = int]':
compute_multinom.cpp:54:45: required from 'SEXPREC* compute_multinom_internal(SEXP, SEXP, SEXP) [with V = Rcpp::Vector<13>; MAT = beachmat::lin_matrix<int, Rcpp::Vector<13> >; SEXP = SEXPREC*]'
compute_multinom.cpp:73:105: required from here
C:/Users/biocbuild/bbs-3.9-bioc/R/library/beachmat/include/beachmat/utils/const_column.h:66:29: warning: comparison between signed and unsigned integer expressions [-Wsign-compare]
if (ref->get_nrow() > indices.size()) {
^
C:/Users/biocbuild/bbs-3.9-bioc/R/library/beachmat/include/beachmat/utils/const_column.h: In instantiation of 'Rcpp::traits::storage_type<13>::type* beachmat::const_column<M>::get_indices() [with M = beachmat::lin_matrix<double, Rcpp::Vector<14, Rcpp::PreserveStorage> >; Rcpp::Vector<13>::iterator = int*; Rcpp::traits::storage_type<13>::type = int]':
compute_multinom.cpp:54:45: required from 'SEXPREC* compute_multinom_internal(SEXP, SEXP, SEXP) [with V = Rcpp::Vector<14, Rcpp::PreserveStorage>; MAT = beachmat::lin_matrix<double, Rcpp::Vector<14, Rcpp::PreserveStorage> >; SEXP = SEXPREC*]'
compute_multinom.cpp:75:105: required from here
C:/Users/biocbuild/bbs-3.9-bioc/R/library/beachmat/include/beachmat/utils/const_column.h:66:29: warning: comparison between signed and unsigned integer expressions [-Wsign-compare]
C:/Rtools/mingw_32/bin/g++ -std=gnu++11 -I"C:/Users/BIOCBU˜1/BBS-3˜1.9-B/R/include" -DNDEBUG -I"C:/Users/biocbuild/bbs-3.9-bioc/R/library/Rcpp/include" -I"C:/Users/biocbuild/bbs-3.9-bioc/R/library/beachmat/include" -I"C:/Users/biocbuild/bbs-3.9-bioc/R/library/Rhdf5lib/include" -I"C:/Users/biocbuild/bbs-3.9-bioc/R/library/BH/include" -I"C:/Users/biocbuild/bbs-3.9-bioc/R/library/dqrng/include" -I"C:/extsoft/include" -O2 -Wall -mtune=generic -c downsample_counts.cpp -o downsample_counts.o
downsample_counts.cpp: In function 'bool check_downsampling_mode(size_t, Rcpp::NumericVector, Rcpp::LogicalVector)':
downsample_counts.cpp:99:24: warning: comparison between signed and unsigned integer expressions [-Wsign-compare]
if (prop.size()!=ncells) {
^
downsample_counts.cpp: In function 'SEXPREC* downsample_runs(SEXP, SEXP, SEXP, SEXP)':
downsample_counts.cpp:209:19: warning: comparison between signed and unsigned integer expressions [-Wsign-compare]
if (nmolecules!=read_vec.size()) {
^
In file included from downsample_counts.cpp:5:0:
C:/Users/biocbuild/bbs-3.9-bioc/R/library/beachmat/include/beachmat/utils/const_column.h: In instantiation of 'Rcpp::traits::storage_type<13>::type* beachmat::const_column<M>::get_indices() [with M = beachmat::lin_matrix<int, Rcpp::Vector<13> >; Rcpp::Vector<13>::iterator = int*; Rcpp::traits::storage_type<13>::type = int]':
downsample_counts.cpp:171:17: required from 'Rcpp::RObject downsample_matrix_internal(Rcpp::RObject, Rcpp::NumericVector, Rcpp::LogicalVector) [with V = Rcpp::Vector<13>; M = beachmat::lin_matrix<int, Rcpp::Vector<13> >; O = beachmat::lin_output<int, Rcpp::Vector<13> >; Rcpp::RObject = Rcpp::RObject_Impl<Rcpp::PreserveStorage>; Rcpp::NumericVector = Rcpp::Vector<14, Rcpp::PreserveStorage>; Rcpp::LogicalVector = Rcpp::Vector<10, Rcpp::PreserveStorage>]'
downsample_counts.cpp:189:55: required from here
C:/Users/biocbuild/bbs-3.9-bioc/R/library/beachmat/include/beachmat/utils/const_column.h:66:29: warning: comparison between signed and unsigned integer expressions [-Wsign-compare]
if (ref->get_nrow() > indices.size()) {
^
C:/Users/biocbuild/bbs-3.9-bioc/R/library/beachmat/include/beachmat/utils/const_column.h: In instantiation of 'Rcpp::traits::storage_type<13>::type* beachmat::const_column<M>::get_indices() [with M = beachmat::lin_matrix<double, Rcpp::Vector<14, Rcpp::PreserveStorage> >; Rcpp::Vector<13>::iterator = int*; Rcpp::traits::storage_type<13>::type = int]':
downsample_counts.cpp:171:17: required from 'Rcpp::RObject downsample_matrix_internal(Rcpp::RObject, Rcpp::NumericVector, Rcpp::LogicalVector) [with V = Rcpp::Vector<14, Rcpp::PreserveStorage>; M = beachmat::lin_matrix<double, Rcpp::Vector<14, Rcpp::PreserveStorage> >; O = beachmat::lin_output<double, Rcpp::Vector<14, Rcpp::PreserveStorage> >; Rcpp::RObject = Rcpp::RObject_Impl<Rcpp::PreserveStorage>; Rcpp::NumericVector = Rcpp::Vector<14, Rcpp::PreserveStorage>; Rcpp::LogicalVector = Rcpp::Vector<10, Rcpp::PreserveStorage>]'
downsample_counts.cpp:193:55: required from here
C:/Users/biocbuild/bbs-3.9-bioc/R/library/beachmat/include/beachmat/utils/const_column.h:66:29: warning: comparison between signed and unsigned integer expressions [-Wsign-compare]
C:/Rtools/mingw_32/bin/g++ -std=gnu++11 -I"C:/Users/BIOCBU˜1/BBS-3˜1.9-B/R/include" -DNDEBUG -I"C:/Users/biocbuild/bbs-3.9-bioc/R/library/Rcpp/include" -I"C:/Users/biocbuild/bbs-3.9-bioc/R/library/beachmat/include" -I"C:/Users/biocbuild/bbs-3.9-bioc/R/library/Rhdf5lib/include" -I"C:/Users/biocbuild/bbs-3.9-bioc/R/library/BH/include" -I"C:/Users/biocbuild/bbs-3.9-bioc/R/library/dqrng/include" -I"C:/extsoft/include" -O2 -Wall -mtune=generic -c encode_sequences.cpp -o encode_sequences.o
encode_sequences.cpp: In function 'SEXPREC* encode_sequences(SEXP)':
encode_sequences.cpp:11:23: warning: comparison between signed and unsigned integer expressions [-Wsign-compare]
for (size_t i=0; i<output.size(); ++i) {
^
C:/Rtools/mingw_32/bin/g++ -std=gnu++11 -I"C:/Users/BIOCBU˜1/BBS-3˜1.9-B/R/include" -DNDEBUG -I"C:/Users/biocbuild/bbs-3.9-bioc/R/library/Rcpp/include" -I"C:/Users/biocbuild/bbs-3.9-bioc/R/library/beachmat/include" -I"C:/Users/biocbuild/bbs-3.9-bioc/R/library/Rhdf5lib/include" -I"C:/Users/biocbuild/bbs-3.9-bioc/R/library/BH/include" -I"C:/Users/biocbuild/bbs-3.9-bioc/R/library/dqrng/include" -I"C:/extsoft/include" -O2 -Wall -mtune=generic -c find_swapped.cpp -o find_swapped.o
C:/Rtools/mingw_32/bin/g++ -std=gnu++11 -I"C:/Users/BIOCBU˜1/BBS-3˜1.9-B/R/include" -DNDEBUG -I"C:/Users/biocbuild/bbs-3.9-bioc/R/library/Rcpp/include" -I"C:/Users/biocbuild/bbs-3.9-bioc/R/library/beachmat/include" -I"C:/Users/biocbuild/bbs-3.9-bioc/R/library/Rhdf5lib/include" -I"C:/Users/biocbuild/bbs-3.9-bioc/R/library/BH/include" -I"C:/Users/biocbuild/bbs-3.9-bioc/R/library/dqrng/include" -I"C:/extsoft/include" -O2 -Wall -mtune=generic -c get_cell_barcodes.cpp -o get_cell_barcodes.o
C:/Rtools/mingw_32/bin/g++ -std=gnu++11 -I"C:/Users/BIOCBU˜1/BBS-3˜1.9-B/R/include" -DNDEBUG -I"C:/Users/biocbuild/bbs-3.9-bioc/R/library/Rcpp/include" -I"C:/Users/biocbuild/bbs-3.9-bioc/R/library/beachmat/include" -I"C:/Users/biocbuild/bbs-3.9-bioc/R/library/Rhdf5lib/include" -I"C:/Users/biocbuild/bbs-3.9-bioc/R/library/BH/include" -I"C:/Users/biocbuild/bbs-3.9-bioc/R/library/dqrng/include" -I"C:/extsoft/include" -O2 -Wall -mtune=generic -c group_cells.cpp -o group_cells.o
group_cells.cpp: In function 'SEXPREC* group_cells(SEXP, SEXP)':
group_cells.cpp:38:27: warning: comparison between signed and unsigned integer expressions [-Wsign-compare]
for (size_t i=1; i<output.size(); ++i) {
^
C:/Rtools/mingw_32/bin/g++ -std=gnu++11 -I"C:/Users/BIOCBU˜1/BBS-3˜1.9-B/R/include" -DNDEBUG -I"C:/Users/biocbuild/bbs-3.9-bioc/R/library/Rcpp/include" -I"C:/Users/biocbuild/bbs-3.9-bioc/R/library/beachmat/include" -I"C:/Users/biocbuild/bbs-3.9-bioc/R/library/Rhdf5lib/include" -I"C:/Users/biocbuild/bbs-3.9-bioc/R/library/BH/include" -I"C:/Users/biocbuild/bbs-3.9-bioc/R/library/dqrng/include" -I"C:/extsoft/include" -O2 -Wall -mtune=generic -c init.cpp -o init.o
C:/Rtools/mingw_32/bin/g++ -std=gnu++11 -I"C:/Users/BIOCBU˜1/BBS-3˜1.9-B/R/include" -DNDEBUG -I"C:/Users/biocbuild/bbs-3.9-bioc/R/library/Rcpp/include" -I"C:/Users/biocbuild/bbs-3.9-bioc/R/library/beachmat/include" -I"C:/Users/biocbuild/bbs-3.9-bioc/R/library/Rhdf5lib/include" -I"C:/Users/biocbuild/bbs-3.9-bioc/R/library/BH/include" -I"C:/Users/biocbuild/bbs-3.9-bioc/R/library/dqrng/include" -I"C:/extsoft/include" -O2 -Wall -mtune=generic -c montecarlo_pval.cpp -o montecarlo_pval.o
In file included from C:/Users/biocbuild/bbs-3.9-bioc/R/library/BH/include/boost/random/detail/integer_log2.hpp:19:0,
from C:/Users/biocbuild/bbs-3.9-bioc/R/library/BH/include/boost/random/detail/large_arithmetic.hpp:19,
from C:/Users/biocbuild/bbs-3.9-bioc/R/library/BH/include/boost/random/detail/const_mod.hpp:23,
from C:/Users/biocbuild/bbs-3.9-bioc/R/library/BH/include/boost/random/linear_congruential.hpp:30,
from C:/Users/biocbuild/bbs-3.9-bioc/R/library/BH/include/boost/random/additive_combine.hpp:27,
from C:/Users/biocbuild/bbs-3.9-bioc/R/library/BH/include/boost/random.hpp:36,
from montecarlo_pval.cpp:3:
C:/Users/biocbuild/bbs-3.9-bioc/R/library/BH/include/boost/pending/integer_log2.hpp:7:89: note: #pragma message: This header is deprecated. Use <boost/integer/integer_log2.hpp> instead.
BOOST_HEADER_DEPRECATED("<boost/integer/integer_log2.hpp>");
^
montecarlo_pval.cpp: In function 'SEXPREC* montecarlo_pval(SEXP, SEXP, SEXP, SEXP, SEXP, SEXP, SEXP, SEXP)':
montecarlo_pval.cpp:95:28: warning: comparison between signed and unsigned integer expressions [-Wsign-compare]
if (chosen >= ngenes) {
^
montecarlo_pval.cpp:111:23: warning: comparison between signed and unsigned integer expressions [-Wsign-compare]
if (higher<curlen) {
^
C:/Rtools/mingw_32/bin/g++ -std=gnu++11 -I"C:/Users/BIOCBU˜1/BBS-3˜1.9-B/R/include" -DNDEBUG -I"C:/Users/biocbuild/bbs-3.9-bioc/R/library/Rcpp/include" -I"C:/Users/biocbuild/bbs-3.9-bioc/R/library/beachmat/include" -I"C:/Users/biocbuild/bbs-3.9-bioc/R/library/Rhdf5lib/include" -I"C:/Users/biocbuild/bbs-3.9-bioc/R/library/BH/include" -I"C:/Users/biocbuild/bbs-3.9-bioc/R/library/dqrng/include" -I"C:/extsoft/include" -O2 -Wall -mtune=generic -c rand_custom.cpp -o rand_custom.o
rand_custom.cpp: In function 'void check_pcg_vectors(Rcpp::List, Rcpp::IntegerVector, size_t, const char*)':
rand_custom.cpp:8:21: warning: comparison between signed and unsigned integer expressions [-Wsign-compare]
if (seeds.size()!=N) {
^
rand_custom.cpp:14:23: warning: comparison between signed and unsigned integer expressions [-Wsign-compare]
if (streams.size()!=N) {
^
C:/Rtools/mingw_32/bin/g++ -std=gnu++11 -I"C:/Users/BIOCBU˜1/BBS-3˜1.9-B/R/include" -DNDEBUG -I"C:/Users/biocbuild/bbs-3.9-bioc/R/library/Rcpp/include" -I"C:/Users/biocbuild/bbs-3.9-bioc/R/library/beachmat/include" -I"C:/Users/biocbuild/bbs-3.9-bioc/R/library/Rhdf5lib/include" -I"C:/Users/biocbuild/bbs-3.9-bioc/R/library/BH/include" -I"C:/Users/biocbuild/bbs-3.9-bioc/R/library/dqrng/include" -I"C:/extsoft/include" -O2 -Wall -mtune=generic -c utils.cpp -o utils.o
C:/Rtools/mingw_32/bin/g++ -shared -s -static-libgcc -o DropletUtils.dll tmp.def compute_multinom.o downsample_counts.o encode_sequences.o find_swapped.o get_cell_barcodes.o group_cells.o init.o montecarlo_pval.o rand_custom.o utils.o -LC:/Users/BIOCBU˜1/BBS-3˜1.9-B/R/library/Rhdf5lib/lib/i386 -lhdf5_cpp -lhdf5 -lszip -lz -lpsapi -LC:/extsoft/lib/i386 -LC:/extsoft/lib -LC:/Users/BIOCBU˜1/BBS-3˜1.9-B/R/bin/i386 -lR
installing to C:/Users/biocbuild/bbs-3.9-bioc/meat/DropletUtils.buildbin-libdir/00LOCK-DropletUtils/00new/DropletUtils/libs/i386
** R
** inst
** byte-compile and prepare package for lazy loading
** help
*** installing help indices
converting help for package 'DropletUtils'
finding HTML links ... done
barcodeRanks html
finding level-2 HTML links ... done
defaultDrops html
downsampleMatrix html
downsampleReads html
emptyDrops html
encodeSequences html
get10xMolInfoStats html
makeCountMatrix html
read10xCounts html
read10xMolInfo html
swappedDrops html
write10xCounts html
** building package indices
** installing vignettes
** testing if installed package can be loaded from temporary location
** testing if installed package can be loaded from final location
** testing if installed package keeps a record of temporary installation path
install for x64
* installing *source* package 'DropletUtils' ...
** libs
C:/Rtools/mingw_64/bin/g++ -std=gnu++11 -I"C:/Users/BIOCBU˜1/BBS-3˜1.9-B/R/include" -DNDEBUG -I"C:/Users/biocbuild/bbs-3.9-bioc/R/library/Rcpp/include" -I"C:/Users/biocbuild/bbs-3.9-bioc/R/library/beachmat/include" -I"C:/Users/biocbuild/bbs-3.9-bioc/R/library/Rhdf5lib/include" -I"C:/Users/biocbuild/bbs-3.9-bioc/R/library/BH/include" -I"C:/Users/biocbuild/bbs-3.9-bioc/R/library/dqrng/include" -I"C:/extsoft/include" -O2 -Wall -mtune=generic -c compute_multinom.cpp -o compute_multinom.o
compute_multinom.cpp: In instantiation of 'SEXPREC* compute_multinom_internal(SEXP, SEXP, SEXP) [with V = Rcpp::Vector<13>; MAT = beachmat::lin_matrix<int, Rcpp::Vector<13> >; SEXP = SEXPREC*]':
compute_multinom.cpp:73:105: required from here
compute_multinom.cpp:41:23: warning: comparison between signed and unsigned integer expressions [-Wsign-compare]
if (ambient.size()!=NR) {
^
compute_multinom.cpp: In instantiation of 'SEXPREC* compute_multinom_internal(SEXP, SEXP, SEXP) [with V = Rcpp::Vector<14, Rcpp::PreserveStorage>; MAT = beachmat::lin_matrix<double, Rcpp::Vector<14, Rcpp::PreserveStorage> >; SEXP = SEXPREC*]':
compute_multinom.cpp:75:105: required from here
compute_multinom.cpp:41:23: warning: comparison between signed and unsigned integer expressions [-Wsign-compare]
In file included from compute_multinom.cpp:5:0:
C:/Users/biocbuild/bbs-3.9-bioc/R/library/beachmat/include/beachmat/utils/const_column.h: In instantiation of 'Rcpp::traits::storage_type<13>::type* beachmat::const_column<M>::get_indices() [with M = beachmat::lin_matrix<int, Rcpp::Vector<13> >; Rcpp::Vector<13>::iterator = int*; Rcpp::traits::storage_type<13>::type = int]':
compute_multinom.cpp:54:45: required from 'SEXPREC* compute_multinom_internal(SEXP, SEXP, SEXP) [with V = Rcpp::Vector<13>; MAT = beachmat::lin_matrix<int, Rcpp::Vector<13> >; SEXP = SEXPREC*]'
compute_multinom.cpp:73:105: required from here
C:/Users/biocbuild/bbs-3.9-bioc/R/library/beachmat/include/beachmat/utils/const_column.h:66:29: warning: comparison between signed and unsigned integer expressions [-Wsign-compare]
if (ref->get_nrow() > indices.size()) {
^
C:/Users/biocbuild/bbs-3.9-bioc/R/library/beachmat/include/beachmat/utils/const_column.h: In instantiation of 'Rcpp::traits::storage_type<13>::type* beachmat::const_column<M>::get_indices() [with M = beachmat::lin_matrix<double, Rcpp::Vector<14, Rcpp::PreserveStorage> >; Rcpp::Vector<13>::iterator = int*; Rcpp::traits::storage_type<13>::type = int]':
compute_multinom.cpp:54:45: required from 'SEXPREC* compute_multinom_internal(SEXP, SEXP, SEXP) [with V = Rcpp::Vector<14, Rcpp::PreserveStorage>; MAT = beachmat::lin_matrix<double, Rcpp::Vector<14, Rcpp::PreserveStorage> >; SEXP = SEXPREC*]'
compute_multinom.cpp:75:105: required from here
C:/Users/biocbuild/bbs-3.9-bioc/R/library/beachmat/include/beachmat/utils/const_column.h:66:29: warning: comparison between signed and unsigned integer expressions [-Wsign-compare]
C:/Rtools/mingw_64/bin/g++ -std=gnu++11 -I"C:/Users/BIOCBU˜1/BBS-3˜1.9-B/R/include" -DNDEBUG -I"C:/Users/biocbuild/bbs-3.9-bioc/R/library/Rcpp/include" -I"C:/Users/biocbuild/bbs-3.9-bioc/R/library/beachmat/include" -I"C:/Users/biocbuild/bbs-3.9-bioc/R/library/Rhdf5lib/include" -I"C:/Users/biocbuild/bbs-3.9-bioc/R/library/BH/include" -I"C:/Users/biocbuild/bbs-3.9-bioc/R/library/dqrng/include" -I"C:/extsoft/include" -O2 -Wall -mtune=generic -c downsample_counts.cpp -o downsample_counts.o
downsample_counts.cpp: In function 'bool check_downsampling_mode(size_t, Rcpp::NumericVector, Rcpp::LogicalVector)':
downsample_counts.cpp:99:24: warning: comparison between signed and unsigned integer expressions [-Wsign-compare]
if (prop.size()!=ncells) {
^
downsample_counts.cpp: In function 'SEXPREC* downsample_runs(SEXP, SEXP, SEXP, SEXP)':
downsample_counts.cpp:209:19: warning: comparison between signed and unsigned integer expressions [-Wsign-compare]
if (nmolecules!=read_vec.size()) {
^
In file included from downsample_counts.cpp:5:0:
C:/Users/biocbuild/bbs-3.9-bioc/R/library/beachmat/include/beachmat/utils/const_column.h: In instantiation of 'Rcpp::traits::storage_type<13>::type* beachmat::const_column<M>::get_indices() [with M = beachmat::lin_matrix<int, Rcpp::Vector<13> >; Rcpp::Vector<13>::iterator = int*; Rcpp::traits::storage_type<13>::type = int]':
downsample_counts.cpp:171:17: required from 'Rcpp::RObject downsample_matrix_internal(Rcpp::RObject, Rcpp::NumericVector, Rcpp::LogicalVector) [with V = Rcpp::Vector<13>; M = beachmat::lin_matrix<int, Rcpp::Vector<13> >; O = beachmat::lin_output<int, Rcpp::Vector<13> >; Rcpp::RObject = Rcpp::RObject_Impl<Rcpp::PreserveStorage>; Rcpp::NumericVector = Rcpp::Vector<14, Rcpp::PreserveStorage>; Rcpp::LogicalVector = Rcpp::Vector<10, Rcpp::PreserveStorage>]'
downsample_counts.cpp:189:55: required from here
C:/Users/biocbuild/bbs-3.9-bioc/R/library/beachmat/include/beachmat/utils/const_column.h:66:29: warning: comparison between signed and unsigned integer expressions [-Wsign-compare]
if (ref->get_nrow() > indices.size()) {
^
C:/Users/biocbuild/bbs-3.9-bioc/R/library/beachmat/include/beachmat/utils/const_column.h: In instantiation of 'Rcpp::traits::storage_type<13>::type* beachmat::const_column<M>::get_indices() [with M = beachmat::lin_matrix<double, Rcpp::Vector<14, Rcpp::PreserveStorage> >; Rcpp::Vector<13>::iterator = int*; Rcpp::traits::storage_type<13>::type = int]':
downsample_counts.cpp:171:17: required from 'Rcpp::RObject downsample_matrix_internal(Rcpp::RObject, Rcpp::NumericVector, Rcpp::LogicalVector) [with V = Rcpp::Vector<14, Rcpp::PreserveStorage>; M = beachmat::lin_matrix<double, Rcpp::Vector<14, Rcpp::PreserveStorage> >; O = beachmat::lin_output<double, Rcpp::Vector<14, Rcpp::PreserveStorage> >; Rcpp::RObject = Rcpp::RObject_Impl<Rcpp::PreserveStorage>; Rcpp::NumericVector = Rcpp::Vector<14, Rcpp::PreserveStorage>; Rcpp::LogicalVector = Rcpp::Vector<10, Rcpp::PreserveStorage>]'
downsample_counts.cpp:193:55: required from here
C:/Users/biocbuild/bbs-3.9-bioc/R/library/beachmat/include/beachmat/utils/const_column.h:66:29: warning: comparison between signed and unsigned integer expressions [-Wsign-compare]
C:/Rtools/mingw_64/bin/g++ -std=gnu++11 -I"C:/Users/BIOCBU˜1/BBS-3˜1.9-B/R/include" -DNDEBUG -I"C:/Users/biocbuild/bbs-3.9-bioc/R/library/Rcpp/include" -I"C:/Users/biocbuild/bbs-3.9-bioc/R/library/beachmat/include" -I"C:/Users/biocbuild/bbs-3.9-bioc/R/library/Rhdf5lib/include" -I"C:/Users/biocbuild/bbs-3.9-bioc/R/library/BH/include" -I"C:/Users/biocbuild/bbs-3.9-bioc/R/library/dqrng/include" -I"C:/extsoft/include" -O2 -Wall -mtune=generic -c encode_sequences.cpp -o encode_sequences.o
encode_sequences.cpp: In function 'SEXPREC* encode_sequences(SEXP)':
encode_sequences.cpp:11:23: warning: comparison between signed and unsigned integer expressions [-Wsign-compare]
for (size_t i=0; i<output.size(); ++i) {
^
C:/Rtools/mingw_64/bin/g++ -std=gnu++11 -I"C:/Users/BIOCBU˜1/BBS-3˜1.9-B/R/include" -DNDEBUG -I"C:/Users/biocbuild/bbs-3.9-bioc/R/library/Rcpp/include" -I"C:/Users/biocbuild/bbs-3.9-bioc/R/library/beachmat/include" -I"C:/Users/biocbuild/bbs-3.9-bioc/R/library/Rhdf5lib/include" -I"C:/Users/biocbuild/bbs-3.9-bioc/R/library/BH/include" -I"C:/Users/biocbuild/bbs-3.9-bioc/R/library/dqrng/include" -I"C:/extsoft/include" -O2 -Wall -mtune=generic -c find_swapped.cpp -o find_swapped.o
C:/Rtools/mingw_64/bin/g++ -std=gnu++11 -I"C:/Users/BIOCBU˜1/BBS-3˜1.9-B/R/include" -DNDEBUG -I"C:/Users/biocbuild/bbs-3.9-bioc/R/library/Rcpp/include" -I"C:/Users/biocbuild/bbs-3.9-bioc/R/library/beachmat/include" -I"C:/Users/biocbuild/bbs-3.9-bioc/R/library/Rhdf5lib/include" -I"C:/Users/biocbuild/bbs-3.9-bioc/R/library/BH/include" -I"C:/Users/biocbuild/bbs-3.9-bioc/R/library/dqrng/include" -I"C:/extsoft/include" -O2 -Wall -mtune=generic -c get_cell_barcodes.cpp -o get_cell_barcodes.o
C:/Rtools/mingw_64/bin/g++ -std=gnu++11 -I"C:/Users/BIOCBU˜1/BBS-3˜1.9-B/R/include" -DNDEBUG -I"C:/Users/biocbuild/bbs-3.9-bioc/R/library/Rcpp/include" -I"C:/Users/biocbuild/bbs-3.9-bioc/R/library/beachmat/include" -I"C:/Users/biocbuild/bbs-3.9-bioc/R/library/Rhdf5lib/include" -I"C:/Users/biocbuild/bbs-3.9-bioc/R/library/BH/include" -I"C:/Users/biocbuild/bbs-3.9-bioc/R/library/dqrng/include" -I"C:/extsoft/include" -O2 -Wall -mtune=generic -c group_cells.cpp -o group_cells.o
group_cells.cpp: In function 'SEXPREC* group_cells(SEXP, SEXP)':
group_cells.cpp:38:27: warning: comparison between signed and unsigned integer expressions [-Wsign-compare]
for (size_t i=1; i<output.size(); ++i) {
^
C:/Rtools/mingw_64/bin/g++ -std=gnu++11 -I"C:/Users/BIOCBU˜1/BBS-3˜1.9-B/R/include" -DNDEBUG -I"C:/Users/biocbuild/bbs-3.9-bioc/R/library/Rcpp/include" -I"C:/Users/biocbuild/bbs-3.9-bioc/R/library/beachmat/include" -I"C:/Users/biocbuild/bbs-3.9-bioc/R/library/Rhdf5lib/include" -I"C:/Users/biocbuild/bbs-3.9-bioc/R/library/BH/include" -I"C:/Users/biocbuild/bbs-3.9-bioc/R/library/dqrng/include" -I"C:/extsoft/include" -O2 -Wall -mtune=generic -c init.cpp -o init.o
C:/Rtools/mingw_64/bin/g++ -std=gnu++11 -I"C:/Users/BIOCBU˜1/BBS-3˜1.9-B/R/include" -DNDEBUG -I"C:/Users/biocbuild/bbs-3.9-bioc/R/library/Rcpp/include" -I"C:/Users/biocbuild/bbs-3.9-bioc/R/library/beachmat/include" -I"C:/Users/biocbuild/bbs-3.9-bioc/R/library/Rhdf5lib/include" -I"C:/Users/biocbuild/bbs-3.9-bioc/R/library/BH/include" -I"C:/Users/biocbuild/bbs-3.9-bioc/R/library/dqrng/include" -I"C:/extsoft/include" -O2 -Wall -mtune=generic -c montecarlo_pval.cpp -o montecarlo_pval.o
In file included from C:/Users/biocbuild/bbs-3.9-bioc/R/library/BH/include/boost/random/detail/integer_log2.hpp:19:0,
from C:/Users/biocbuild/bbs-3.9-bioc/R/library/BH/include/boost/random/detail/large_arithmetic.hpp:19,
from C:/Users/biocbuild/bbs-3.9-bioc/R/library/BH/include/boost/random/detail/const_mod.hpp:23,
from C:/Users/biocbuild/bbs-3.9-bioc/R/library/BH/include/boost/random/linear_congruential.hpp:30,
from C:/Users/biocbuild/bbs-3.9-bioc/R/library/BH/include/boost/random/additive_combine.hpp:27,
from C:/Users/biocbuild/bbs-3.9-bioc/R/library/BH/include/boost/random.hpp:36,
from montecarlo_pval.cpp:3:
C:/Users/biocbuild/bbs-3.9-bioc/R/library/BH/include/boost/pending/integer_log2.hpp:7:89: note: #pragma message: This header is deprecated. Use <boost/integer/integer_log2.hpp> instead.
BOOST_HEADER_DEPRECATED("<boost/integer/integer_log2.hpp>");
^
montecarlo_pval.cpp: In function 'SEXPREC* montecarlo_pval(SEXP, SEXP, SEXP, SEXP, SEXP, SEXP, SEXP, SEXP)':
montecarlo_pval.cpp:95:28: warning: comparison between signed and unsigned integer expressions [-Wsign-compare]
if (chosen >= ngenes) {
^
montecarlo_pval.cpp:111:23: warning: comparison between signed and unsigned integer expressions [-Wsign-compare]
if (higher<curlen) {
^
C:/Rtools/mingw_64/bin/g++ -std=gnu++11 -I"C:/Users/BIOCBU˜1/BBS-3˜1.9-B/R/include" -DNDEBUG -I"C:/Users/biocbuild/bbs-3.9-bioc/R/library/Rcpp/include" -I"C:/Users/biocbuild/bbs-3.9-bioc/R/library/beachmat/include" -I"C:/Users/biocbuild/bbs-3.9-bioc/R/library/Rhdf5lib/include" -I"C:/Users/biocbuild/bbs-3.9-bioc/R/library/BH/include" -I"C:/Users/biocbuild/bbs-3.9-bioc/R/library/dqrng/include" -I"C:/extsoft/include" -O2 -Wall -mtune=generic -c rand_custom.cpp -o rand_custom.o
rand_custom.cpp: In function 'void check_pcg_vectors(Rcpp::List, Rcpp::IntegerVector, size_t, const char*)':
rand_custom.cpp:8:21: warning: comparison between signed and unsigned integer expressions [-Wsign-compare]
if (seeds.size()!=N) {
^
rand_custom.cpp:14:23: warning: comparison between signed and unsigned integer expressions [-Wsign-compare]
if (streams.size()!=N) {
^
C:/Rtools/mingw_64/bin/g++ -std=gnu++11 -I"C:/Users/BIOCBU˜1/BBS-3˜1.9-B/R/include" -DNDEBUG -I"C:/Users/biocbuild/bbs-3.9-bioc/R/library/Rcpp/include" -I"C:/Users/biocbuild/bbs-3.9-bioc/R/library/beachmat/include" -I"C:/Users/biocbuild/bbs-3.9-bioc/R/library/Rhdf5lib/include" -I"C:/Users/biocbuild/bbs-3.9-bioc/R/library/BH/include" -I"C:/Users/biocbuild/bbs-3.9-bioc/R/library/dqrng/include" -I"C:/extsoft/include" -O2 -Wall -mtune=generic -c utils.cpp -o utils.o
C:/Rtools/mingw_64/bin/g++ -shared -s -static-libgcc -o DropletUtils.dll tmp.def compute_multinom.o downsample_counts.o encode_sequences.o find_swapped.o get_cell_barcodes.o group_cells.o init.o montecarlo_pval.o rand_custom.o utils.o -LC:/Users/BIOCBU˜1/BBS-3˜1.9-B/R/library/Rhdf5lib/lib/x64 -lhdf5_cpp -lhdf5 -lszip -lz -lpsapi -LC:/extsoft/lib/x64 -LC:/extsoft/lib -LC:/Users/BIOCBU˜1/BBS-3˜1.9-B/R/bin/x64 -lR
installing to C:/Users/biocbuild/bbs-3.9-bioc/meat/DropletUtils.buildbin-libdir/DropletUtils/libs/x64
** testing if installed package can be loaded
* MD5 sums
packaged installation of 'DropletUtils' as DropletUtils_1.3.13.zip
* DONE (DropletUtils)
* installing to library 'C:/Users/biocbuild/bbs-3.9-bioc/R/library'
package 'DropletUtils' successfully unpacked and MD5 sums checked
|
DropletUtils.Rcheck/tests_i386/testthat.Rout
R Under development (unstable) (2019-03-09 r76216) -- "Unsuffered Consequences"
Copyright (C) 2019 The R Foundation for Statistical Computing
Platform: i386-w64-mingw32/i386 (32-bit)
R is free software and comes with ABSOLUTELY NO WARRANTY.
You are welcome to redistribute it under certain conditions.
Type 'license()' or 'licence()' for distribution details.
R is a collaborative project with many contributors.
Type 'contributors()' for more information and
'citation()' on how to cite R or R packages in publications.
Type 'demo()' for some demos, 'help()' for on-line help, or
'help.start()' for an HTML browser interface to help.
Type 'q()' to quit R.
> library(testthat)
> library(DropletUtils)
Loading required package: SingleCellExperiment
Loading required package: SummarizedExperiment
Loading required package: GenomicRanges
Loading required package: stats4
Loading required package: BiocGenerics
Loading required package: parallel
Attaching package: 'BiocGenerics'
The following objects are masked from 'package:parallel':
clusterApply, clusterApplyLB, clusterCall, clusterEvalQ,
clusterExport, clusterMap, parApply, parCapply, parLapply,
parLapplyLB, parRapply, parSapply, parSapplyLB
The following objects are masked from 'package:stats':
IQR, mad, sd, var, xtabs
The following objects are masked from 'package:base':
Filter, Find, Map, Position, Reduce, anyDuplicated, append,
as.data.frame, basename, cbind, colMeans, colSums, colnames,
dirname, do.call, duplicated, eval, evalq, get, grep, grepl,
intersect, is.unsorted, lapply, mapply, match, mget, order, paste,
pmax, pmax.int, pmin, pmin.int, rank, rbind, rowMeans, rowSums,
rownames, sapply, setdiff, sort, table, tapply, union, unique,
unsplit, which, which.max, which.min
Loading required package: S4Vectors
Attaching package: 'S4Vectors'
The following object is masked from 'package:base':
expand.grid
Loading required package: IRanges
Attaching package: 'IRanges'
The following object is masked from 'package:grDevices':
windows
Loading required package: GenomeInfoDb
Loading required package: Biobase
Welcome to Bioconductor
Vignettes contain introductory material; view with
'browseVignettes()'. To cite Bioconductor, see
'citation("Biobase")', and for packages 'citation("pkgname")'.
Loading required package: DelayedArray
Loading required package: matrixStats
Attaching package: 'matrixStats'
The following objects are masked from 'package:Biobase':
anyMissing, rowMedians
Loading required package: BiocParallel
Attaching package: 'DelayedArray'
The following objects are masked from 'package:matrixStats':
colMaxs, colMins, colRanges, rowMaxs, rowMins, rowRanges
The following objects are masked from 'package:base':
aperm, apply, rowsum
> test_check("DropletUtils")
== testthat results ===========================================================
OK: 819 SKIPPED: 0 FAILED: 0
>
> proc.time()
user system elapsed
130.48 1.73 137.65
|
DropletUtils.Rcheck/tests_x64/testthat.Rout
R Under development (unstable) (2019-03-09 r76216) -- "Unsuffered Consequences"
Copyright (C) 2019 The R Foundation for Statistical Computing
Platform: x86_64-w64-mingw32/x64 (64-bit)
R is free software and comes with ABSOLUTELY NO WARRANTY.
You are welcome to redistribute it under certain conditions.
Type 'license()' or 'licence()' for distribution details.
R is a collaborative project with many contributors.
Type 'contributors()' for more information and
'citation()' on how to cite R or R packages in publications.
Type 'demo()' for some demos, 'help()' for on-line help, or
'help.start()' for an HTML browser interface to help.
Type 'q()' to quit R.
> library(testthat)
> library(DropletUtils)
Loading required package: SingleCellExperiment
Loading required package: SummarizedExperiment
Loading required package: GenomicRanges
Loading required package: stats4
Loading required package: BiocGenerics
Loading required package: parallel
Attaching package: 'BiocGenerics'
The following objects are masked from 'package:parallel':
clusterApply, clusterApplyLB, clusterCall, clusterEvalQ,
clusterExport, clusterMap, parApply, parCapply, parLapply,
parLapplyLB, parRapply, parSapply, parSapplyLB
The following objects are masked from 'package:stats':
IQR, mad, sd, var, xtabs
The following objects are masked from 'package:base':
Filter, Find, Map, Position, Reduce, anyDuplicated, append,
as.data.frame, basename, cbind, colMeans, colSums, colnames,
dirname, do.call, duplicated, eval, evalq, get, grep, grepl,
intersect, is.unsorted, lapply, mapply, match, mget, order, paste,
pmax, pmax.int, pmin, pmin.int, rank, rbind, rowMeans, rowSums,
rownames, sapply, setdiff, sort, table, tapply, union, unique,
unsplit, which, which.max, which.min
Loading required package: S4Vectors
Attaching package: 'S4Vectors'
The following object is masked from 'package:base':
expand.grid
Loading required package: IRanges
Attaching package: 'IRanges'
The following object is masked from 'package:grDevices':
windows
Loading required package: GenomeInfoDb
Loading required package: Biobase
Welcome to Bioconductor
Vignettes contain introductory material; view with
'browseVignettes()'. To cite Bioconductor, see
'citation("Biobase")', and for packages 'citation("pkgname")'.
Loading required package: DelayedArray
Loading required package: matrixStats
Attaching package: 'matrixStats'
The following objects are masked from 'package:Biobase':
anyMissing, rowMedians
Loading required package: BiocParallel
Attaching package: 'DelayedArray'
The following objects are masked from 'package:matrixStats':
colMaxs, colMins, colRanges, rowMaxs, rowMins, rowRanges
The following objects are masked from 'package:base':
aperm, apply, rowsum
> test_check("DropletUtils")
== testthat results ===========================================================
OK: 819 SKIPPED: 0 FAILED: 0
>
> proc.time()
user system elapsed
129.53 1.62 134.71
|
|
DropletUtils.Rcheck/examples_i386/DropletUtils-Ex.timings
|
DropletUtils.Rcheck/examples_x64/DropletUtils-Ex.timings
|