This page was generated on 2019-04-13 19:55:02 -0400 (Sat, 13 Apr 2019).
git log
| Snapshot Date: 2019-04-13 11:00:02 -0400 (Sat, 13 Apr 2019) |
| Hostname | OS | Arch (*) | Platform label (**) | R version | Installed pkgs |
|---|---|---|---|---|---|
| malbec1 | Linux (Ubuntu 16.04.6 LTS) | x86_64 | x86_64-linux-gnu | 3.5.3 (2019-03-11) -- "Great Truth" | 3393 |
| Click on any hostname to see more info about the system (e.g. compilers) (*) as reported by 'uname -p', except on Windows and Mac OS X (**) as reported by 'gcc -v' | |||||
| SUMMARY | OS / Arch | CHECK | |||||
| malbec1 | Linux (Ubuntu 16.04.6 LTS) / x86_64 |
| |||||
| Package | Maintainer | CHECK | |||||
| 1/4 | beachmat 1.4.0 | Aaron Lun | OK | ||||
| 2/4 | BiocParallel 1.16.6 | Bioconductor Package Maintainer | WARNINGS | ||||
| 3/4 | GenomicFeatures 1.34.8 | Bioconductor Package Maintainer | WARNINGS | ||||
| 4/4 | HDF5Array 1.10.1 | Hervé Pagès | ERROR | ||||