| Back to Multiple platform build/check report for BioC 3.8 | 
 | 
This page was generated on 2019-04-16 12:00:26 -0400 (Tue, 16 Apr 2019).
| Package 1102/1649 | Hostname | OS / Arch | INSTALL | BUILD | CHECK | BUILD BIN | ||||||
| Organism.dplyr 1.10.0 Martin Morgan 
 | malbec1 | Linux (Ubuntu 16.04.6 LTS) / x86_64 | OK | OK | OK |  | ||||||
| merida1 | OS X 10.11.6 El Capitan / x86_64 | OK | OK | OK | [ OK ] |  | 
| Package: Organism.dplyr | 
| Version: 1.10.0 | 
| Command: rm -rf Organism.dplyr.buildbin-libdir && mkdir Organism.dplyr.buildbin-libdir && /Users/biocbuild/BBS/utils/build-universal.sh Organism.dplyr_1.10.0.tar.gz /Library/Frameworks/R.framework/Versions/Current/Resources/bin/R Organism.dplyr.buildbin-libdir | 
| StartedAt: 2019-04-16 04:29:23 -0400 (Tue, 16 Apr 2019) | 
| EndedAt: 2019-04-16 04:30:01 -0400 (Tue, 16 Apr 2019) | 
| EllapsedTime: 37.5 seconds | 
| RetCode: 0 | 
| Status: OK | 
| PackageFile: Organism.dplyr_1.10.0.tgz | 
| PackageFileSize: 810.1 KiB | 
############################################################################## ############################################################################## ### ### Running command: ### ### rm -rf Organism.dplyr.buildbin-libdir && mkdir Organism.dplyr.buildbin-libdir && /Users/biocbuild/BBS/utils/build-universal.sh Organism.dplyr_1.10.0.tar.gz /Library/Frameworks/R.framework/Versions/Current/Resources/bin/R Organism.dplyr.buildbin-libdir ### ############################################################################## ############################################################################## >>>>>>> >>>>>>> INSTALLATION WITH 'R CMD INSTALL --preclean --no-multiarch --library=Organism.dplyr.buildbin-libdir Organism.dplyr_1.10.0.tar.gz' >>>>>>> * installing *source* package ‘Organism.dplyr’ ... ** R ** inst ** byte-compile and prepare package for lazy loading ** help *** installing help indices ** building package indices ** installing vignettes ** testing if installed package can be loaded * DONE (Organism.dplyr)