| Back to Multiple platform build/check report for BioC 3.8 |
|
This page was generated on 2019-03-18 11:34:15 -0400 (Mon, 18 Mar 2019).
| Package 863/1649 | Hostname | OS / Arch | INSTALL | BUILD | CHECK | ||||||
| MACPET 1.2.0 Ioannis Vardaxis
| malbec1 | Linux (Ubuntu 16.04.6 LTS) / x86_64 | ERROR | ERROR | skipped | ||||||
| tokay1 | Windows Server 2012 R2 Standard / x64 | OK | OK | WARNINGS | |||||||
| merida1 | OS X 10.11.6 El Capitan / x86_64 | OK | OK | OK |
| Package: MACPET |
| Version: 1.2.0 |
| Command: rm -rf MACPET.buildbin-libdir && mkdir MACPET.buildbin-libdir && /Users/biocbuild/BBS/utils/build-universal.sh MACPET_1.2.0.tar.gz /Library/Frameworks/R.framework/Versions/Current/Resources/bin/R MACPET.buildbin-libdir |
| StartedAt: 2019-03-18 04:29:36 -0400 (Mon, 18 Mar 2019) |
| EndedAt: 2019-03-18 04:31:11 -0400 (Mon, 18 Mar 2019) |
| EllapsedTime: 95.6 seconds |
| RetCode: 0 |
| Status: OK |
| PackageFile: MACPET_1.2.0.tgz |
| PackageFileSize: 1.204 MiB |
##############################################################################
##############################################################################
###
### Running command:
###
### rm -rf MACPET.buildbin-libdir && mkdir MACPET.buildbin-libdir && /Users/biocbuild/BBS/utils/build-universal.sh MACPET_1.2.0.tar.gz /Library/Frameworks/R.framework/Versions/Current/Resources/bin/R MACPET.buildbin-libdir
###
##############################################################################
##############################################################################
>>>>>>>
>>>>>>> INSTALLATION WITH 'R CMD INSTALL --preclean --no-multiarch --library=MACPET.buildbin-libdir MACPET_1.2.0.tar.gz'
>>>>>>>
* installing *source* package ‘MACPET’ ...
** libs
clang++ -std=gnu++11 -I"/Library/Frameworks/R.framework/Resources/include" -DNDEBUG -I"/Library/Frameworks/R.framework/Versions/3.5/Resources/library/Rcpp/include" -I"/Library/Frameworks/R.framework/Versions/3.5/Resources/library/bigmemory/include" -I"/Library/Frameworks/R.framework/Versions/3.5/Resources/library/BH/include" -I/usr/local/include -fPIC -Wall -g -O2 -c RcppExports.cpp -o RcppExports.o
RcppExports.cpp:46:1: warning: unused variable 'nprot' [-Wunused-variable]
BEGIN_RCPP
^
/Library/Frameworks/R.framework/Versions/3.5/Resources/library/Rcpp/include/Rcpp/macros/macros.h:32:9: note: expanded from macro 'BEGIN_RCPP'
int nprot = 0; \
^
RcppExports.cpp:46:1: warning: unused variable 'stop_sym' [-Wunused-variable]
/Library/Frameworks/R.framework/Versions/3.5/Resources/library/Rcpp/include/Rcpp/macros/macros.h:36:17: note: expanded from macro 'BEGIN_RCPP'
static SEXP stop_sym = Rf_install("stop"); \
^
RcppExports.cpp:81:1: warning: unused variable 'stop_sym' [-Wunused-variable]
BEGIN_RCPP
^
/Library/Frameworks/R.framework/Versions/3.5/Resources/library/Rcpp/include/Rcpp/macros/macros.h:36:17: note: expanded from macro 'BEGIN_RCPP'
static SEXP stop_sym = Rf_install("stop"); \
^
RcppExports.cpp:81:1: warning: unused variable 'nprot' [-Wunused-variable]
/Library/Frameworks/R.framework/Versions/3.5/Resources/library/Rcpp/include/Rcpp/macros/macros.h:32:9: note: expanded from macro 'BEGIN_RCPP'
int nprot = 0; \
^
RcppExports.cpp:117:1: warning: unused variable 'nprot' [-Wunused-variable]
BEGIN_RCPP
^
/Library/Frameworks/R.framework/Versions/3.5/Resources/library/Rcpp/include/Rcpp/macros/macros.h:32:9: note: expanded from macro 'BEGIN_RCPP'
int nprot = 0; \
^
RcppExports.cpp:117:1: warning: unused variable 'stop_sym' [-Wunused-variable]
/Library/Frameworks/R.framework/Versions/3.5/Resources/library/Rcpp/include/Rcpp/macros/macros.h:36:17: note: expanded from macro 'BEGIN_RCPP'
static SEXP stop_sym = Rf_install("stop"); \
^
RcppExports.cpp:150:1: warning: unused variable 'nprot' [-Wunused-variable]
BEGIN_RCPP
^
/Library/Frameworks/R.framework/Versions/3.5/Resources/library/Rcpp/include/Rcpp/macros/macros.h:32:9: note: expanded from macro 'BEGIN_RCPP'
int nprot = 0; \
^
RcppExports.cpp:150:1: warning: unused variable 'stop_sym' [-Wunused-variable]
/Library/Frameworks/R.framework/Versions/3.5/Resources/library/Rcpp/include/Rcpp/macros/macros.h:36:17: note: expanded from macro 'BEGIN_RCPP'
static SEXP stop_sym = Rf_install("stop"); \
^
RcppExports.cpp:185:1: warning: unused variable 'stop_sym' [-Wunused-variable]
BEGIN_RCPP
^
/Library/Frameworks/R.framework/Versions/3.5/Resources/library/Rcpp/include/Rcpp/macros/macros.h:36:17: note: expanded from macro 'BEGIN_RCPP'
static SEXP stop_sym = Rf_install("stop"); \
^
RcppExports.cpp:185:1: warning: unused variable 'nprot' [-Wunused-variable]
/Library/Frameworks/R.framework/Versions/3.5/Resources/library/Rcpp/include/Rcpp/macros/macros.h:32:9: note: expanded from macro 'BEGIN_RCPP'
int nprot = 0; \
^
RcppExports.cpp:218:1: warning: unused variable 'stop_sym' [-Wunused-variable]
BEGIN_RCPP
^
/Library/Frameworks/R.framework/Versions/3.5/Resources/library/Rcpp/include/Rcpp/macros/macros.h:36:17: note: expanded from macro 'BEGIN_RCPP'
static SEXP stop_sym = Rf_install("stop"); \
^
RcppExports.cpp:218:1: warning: unused variable 'nprot' [-Wunused-variable]
/Library/Frameworks/R.framework/Versions/3.5/Resources/library/Rcpp/include/Rcpp/macros/macros.h:32:9: note: expanded from macro 'BEGIN_RCPP'
int nprot = 0; \
^
RcppExports.cpp:251:1: warning: unused variable 'nprot' [-Wunused-variable]
BEGIN_RCPP
^
/Library/Frameworks/R.framework/Versions/3.5/Resources/library/Rcpp/include/Rcpp/macros/macros.h:32:9: note: expanded from macro 'BEGIN_RCPP'
int nprot = 0; \
^
RcppExports.cpp:251:1: warning: unused variable 'stop_sym' [-Wunused-variable]
/Library/Frameworks/R.framework/Versions/3.5/Resources/library/Rcpp/include/Rcpp/macros/macros.h:36:17: note: expanded from macro 'BEGIN_RCPP'
static SEXP stop_sym = Rf_install("stop"); \
^
RcppExports.cpp:283:1: warning: unused variable 'stop_sym' [-Wunused-variable]
BEGIN_RCPP
^
/Library/Frameworks/R.framework/Versions/3.5/Resources/library/Rcpp/include/Rcpp/macros/macros.h:36:17: note: expanded from macro 'BEGIN_RCPP'
static SEXP stop_sym = Rf_install("stop"); \
^
RcppExports.cpp:283:1: warning: unused variable 'nprot' [-Wunused-variable]
/Library/Frameworks/R.framework/Versions/3.5/Resources/library/Rcpp/include/Rcpp/macros/macros.h:32:9: note: expanded from macro 'BEGIN_RCPP'
int nprot = 0; \
^
RcppExports.cpp:319:1: warning: unused variable 'nprot' [-Wunused-variable]
BEGIN_RCPP
^
/Library/Frameworks/R.framework/Versions/3.5/Resources/library/Rcpp/include/Rcpp/macros/macros.h:32:9: note: expanded from macro 'BEGIN_RCPP'
int nprot = 0; \
^
RcppExports.cpp:319:1: warning: unused variable 'stop_sym' [-Wunused-variable]
/Library/Frameworks/R.framework/Versions/3.5/Resources/library/Rcpp/include/Rcpp/macros/macros.h:36:17: note: expanded from macro 'BEGIN_RCPP'
static SEXP stop_sym = Rf_install("stop"); \
^
RcppExports.cpp:353:1: warning: unused variable 'nprot' [-Wunused-variable]
BEGIN_RCPP
^
/Library/Frameworks/R.framework/Versions/3.5/Resources/library/Rcpp/include/Rcpp/macros/macros.h:32:9: note: expanded from macro 'BEGIN_RCPP'
int nprot = 0; \
^
RcppExports.cpp:353:1: warning: unused variable 'stop_sym' [-Wunused-variable]
/Library/Frameworks/R.framework/Versions/3.5/Resources/library/Rcpp/include/Rcpp/macros/macros.h:36:17: note: expanded from macro 'BEGIN_RCPP'
static SEXP stop_sym = Rf_install("stop"); \
^
RcppExports.cpp:388:1: warning: unused variable 'stop_sym' [-Wunused-variable]
BEGIN_RCPP
^
/Library/Frameworks/R.framework/Versions/3.5/Resources/library/Rcpp/include/Rcpp/macros/macros.h:36:17: note: expanded from macro 'BEGIN_RCPP'
static SEXP stop_sym = Rf_install("stop"); \
^
RcppExports.cpp:388:1: warning: unused variable 'nprot' [-Wunused-variable]
/Library/Frameworks/R.framework/Versions/3.5/Resources/library/Rcpp/include/Rcpp/macros/macros.h:32:9: note: expanded from macro 'BEGIN_RCPP'
int nprot = 0; \
^
RcppExports.cpp:421:1: warning: unused variable 'nprot' [-Wunused-variable]
BEGIN_RCPP
^
/Library/Frameworks/R.framework/Versions/3.5/Resources/library/Rcpp/include/Rcpp/macros/macros.h:32:9: note: expanded from macro 'BEGIN_RCPP'
int nprot = 0; \
^
RcppExports.cpp:421:1: warning: unused variable 'stop_sym' [-Wunused-variable]
/Library/Frameworks/R.framework/Versions/3.5/Resources/library/Rcpp/include/Rcpp/macros/macros.h:36:17: note: expanded from macro 'BEGIN_RCPP'
static SEXP stop_sym = Rf_install("stop"); \
^
RcppExports.cpp:456:1: warning: unused variable 'nprot' [-Wunused-variable]
BEGIN_RCPP
^
/Library/Frameworks/R.framework/Versions/3.5/Resources/library/Rcpp/include/Rcpp/macros/macros.h:32:9: note: expanded from macro 'BEGIN_RCPP'
int nprot = 0; \
^
RcppExports.cpp:456:1: warning: unused variable 'stop_sym' [-Wunused-variable]
/Library/Frameworks/R.framework/Versions/3.5/Resources/library/Rcpp/include/Rcpp/macros/macros.h:36:17: note: expanded from macro 'BEGIN_RCPP'
static SEXP stop_sym = Rf_install("stop"); \
^
RcppExports.cpp:492:1: warning: unused variable 'nprot' [-Wunused-variable]
BEGIN_RCPP
^
/Library/Frameworks/R.framework/Versions/3.5/Resources/library/Rcpp/include/Rcpp/macros/macros.h:32:9: note: expanded from macro 'BEGIN_RCPP'
int nprot = 0; \
^
RcppExports.cpp:492:1: warning: unused variable 'stop_sym' [-Wunused-variable]
/Library/Frameworks/R.framework/Versions/3.5/Resources/library/Rcpp/include/Rcpp/macros/macros.h:36:17: note: expanded from macro 'BEGIN_RCPP'
static SEXP stop_sym = Rf_install("stop"); \
^
RcppExports.cpp:523:1: warning: unused variable 'nprot' [-Wunused-variable]
BEGIN_RCPP
^
/Library/Frameworks/R.framework/Versions/3.5/Resources/library/Rcpp/include/Rcpp/macros/macros.h:32:9: note: expanded from macro 'BEGIN_RCPP'
int nprot = 0; \
^
RcppExports.cpp:523:1: warning: unused variable 'stop_sym' [-Wunused-variable]
/Library/Frameworks/R.framework/Versions/3.5/Resources/library/Rcpp/include/Rcpp/macros/macros.h:36:17: note: expanded from macro 'BEGIN_RCPP'
static SEXP stop_sym = Rf_install("stop"); \
^
30 warnings generated.
clang++ -std=gnu++11 -I"/Library/Frameworks/R.framework/Resources/include" -DNDEBUG -I"/Library/Frameworks/R.framework/Versions/3.5/Resources/library/Rcpp/include" -I"/Library/Frameworks/R.framework/Versions/3.5/Resources/library/bigmemory/include" -I"/Library/Frameworks/R.framework/Versions/3.5/Resources/library/BH/include" -I/usr/local/include -fPIC -Wall -g -O2 -c Stage_0_FastqFilteringSubFunctions.cpp -o Stage_0_FastqFilteringSubFunctions.o
clang++ -std=gnu++11 -I"/Library/Frameworks/R.framework/Resources/include" -DNDEBUG -I"/Library/Frameworks/R.framework/Versions/3.5/Resources/library/Rcpp/include" -I"/Library/Frameworks/R.framework/Versions/3.5/Resources/library/bigmemory/include" -I"/Library/Frameworks/R.framework/Versions/3.5/Resources/library/BH/include" -I/usr/local/include -fPIC -Wall -g -O2 -c Stage_3_PeakFinderSubFunctions.cpp -o Stage_3_PeakFinderSubFunctions.o
clang++ -std=gnu++11 -I"/Library/Frameworks/R.framework/Resources/include" -DNDEBUG -I"/Library/Frameworks/R.framework/Versions/3.5/Resources/library/Rcpp/include" -I"/Library/Frameworks/R.framework/Versions/3.5/Resources/library/bigmemory/include" -I"/Library/Frameworks/R.framework/Versions/3.5/Resources/library/BH/include" -I/usr/local/include -fPIC -Wall -g -O2 -c Stage_4_InteractionsSubFunctions.cpp -o Stage_4_InteractionsSubFunctions.o
clang++ -std=gnu++11 -dynamiclib -Wl,-headerpad_max_install_names -undefined dynamic_lookup -single_module -multiply_defined suppress -L/Library/Frameworks/R.framework/Resources/lib -L/usr/local/lib -o MACPET.so RcppExports.o Stage_0_FastqFilteringSubFunctions.o Stage_3_PeakFinderSubFunctions.o Stage_4_InteractionsSubFunctions.o -F/Library/Frameworks/R.framework/.. -framework R -Wl,-framework -Wl,CoreFoundation
installing to /Users/biocbuild/bbs-3.8-bioc/meat/MACPET.buildbin-libdir/MACPET/libs
** R
** inst
** byte-compile and prepare package for lazy loading
** help
*** installing help indices
** building package indices
** installing vignettes
** testing if installed package can be loaded
* DONE (MACPET)
>>>>>>>
>>>>>>> FIXING LINKS FOR MACPET.buildbin-libdir/MACPET/libs//MACPET.so
>>>>>>>
install_name_tool -change "/usr/local/lib/libgcc_s.1.dylib" "/Library/Frameworks/R.framework/Versions/3.5/Resources/lib/libgcc_s.1.dylib" "MACPET.buildbin-libdir/MACPET/libs//MACPET.so"
install_name_tool -change "/usr/local/lib/libgfortran.3.dylib" "/Library/Frameworks/R.framework/Versions/3.5/Resources/lib/libgfortran.3.dylib" "MACPET.buildbin-libdir/MACPET/libs//MACPET.so"
install_name_tool -change "/usr/local/lib/libreadline.5.2.dylib" "/Library/Frameworks/R.framework/Versions/3.5/Resources/lib/libreadline.5.2.dylib" "MACPET.buildbin-libdir/MACPET/libs//MACPET.so"
install_name_tool -change "/usr/local/lib/libreadline.dylib" "/Library/Frameworks/R.framework/Versions/3.5/Resources/lib/libreadline.dylib" "MACPET.buildbin-libdir/MACPET/libs//MACPET.so"
install_name_tool -change "/usr/local/lib/libquadmath.0.dylib" "/Library/Frameworks/R.framework/Versions/3.5/Resources/lib/libquadmath.0.dylib" "MACPET.buildbin-libdir/MACPET/libs//MACPET.so"