Back to Multiple platform build/check report for BioC 3.8 |
|
This page was generated on 2019-03-18 11:29:15 -0400 (Mon, 18 Mar 2019).
Package 1538/1649 | Hostname | OS / Arch | INSTALL | BUILD | CHECK | ||||||
synapter 2.6.1 Laurent Gatto
| malbec1 | Linux (Ubuntu 16.04.6 LTS) / x86_64 | OK | OK | OK | ![]() | |||||
tokay1 | Windows Server 2012 R2 Standard / x64 | OK | OK | WARNINGS | ![]() | ||||||
merida1 | OS X 10.11.6 El Capitan / x86_64 | OK | OK | OK | ![]() |
Package: synapter |
Version: 2.6.1 |
Command: rm -rf synapter.buildbin-libdir && mkdir synapter.buildbin-libdir && /Users/biocbuild/BBS/utils/build-universal.sh synapter_2.6.1.tar.gz /Library/Frameworks/R.framework/Versions/Current/Resources/bin/R synapter.buildbin-libdir |
StartedAt: 2019-03-18 05:01:55 -0400 (Mon, 18 Mar 2019) |
EndedAt: 2019-03-18 05:03:02 -0400 (Mon, 18 Mar 2019) |
EllapsedTime: 67.2 seconds |
RetCode: 0 |
Status: OK |
PackageFile: synapter_2.6.1.tgz |
PackageFileSize: 5.579 MiB |
############################################################################## ############################################################################## ### ### Running command: ### ### rm -rf synapter.buildbin-libdir && mkdir synapter.buildbin-libdir && /Users/biocbuild/BBS/utils/build-universal.sh synapter_2.6.1.tar.gz /Library/Frameworks/R.framework/Versions/Current/Resources/bin/R synapter.buildbin-libdir ### ############################################################################## ############################################################################## >>>>>>> >>>>>>> INSTALLATION WITH 'R CMD INSTALL --preclean --no-multiarch --library=synapter.buildbin-libdir synapter_2.6.1.tar.gz' >>>>>>> * installing *source* package ‘synapter’ ... ** R ** data ** inst ** byte-compile and prepare package for lazy loading ** help *** installing help indices ** building package indices ** installing vignettes ** testing if installed package can be loaded * DONE (synapter)